BEGIN:VCALENDAR
VERSION:2.0
PRODID:-//Link: UCOP&#039;s e-newsletter - ECPv6.15.19//NONSGML v1.0//EN
CALSCALE:GREGORIAN
METHOD:PUBLISH
X-ORIGINAL-URL:https://link.ucop.edu
X-WR-CALDESC:Events for Link: UCOP&#039;s e-newsletter
REFRESH-INTERVAL;VALUE=DURATION:PT1H
X-Robots-Tag:noindex
X-PUBLISHED-TTL:PT1H
BEGIN:VTIMEZONE
TZID:America/Los_Angeles
BEGIN:STANDARD
TZOFFSETFROM:-0700
TZOFFSETTO:-0800
DTSTART:19701029T020000
RRULE:FREQ=YEARLY;BYMONTH=11;BYDAY=1SU
END:STANDARD
BEGIN:DAYLIGHT
DTSTART:19700402T020000
TZOFFSETFROM:-0800
TZOFFSETTO:-0700
RRULE:FREQ=YEARLY;BYMONTH=3;BYDAY=2SU
END:DAYLIGHT
END:VTIMEZONE
BEGIN:VTIMEZONE
TZID:America/Los_Angeles
BEGIN:DAYLIGHT
TZOFFSETFROM:-0800
TZOFFSETTO:-0700
TZNAME:PDT
DTSTART:20210314T100000
END:DAYLIGHT
BEGIN:STANDARD
TZOFFSETFROM:-0700
TZOFFSETTO:-0800
TZNAME:PST
DTSTART:20211107T090000
END:STANDARD
BEGIN:DAYLIGHT
TZOFFSETFROM:-0800
TZOFFSETTO:-0700
TZNAME:PDT
DTSTART:20220313T100000
END:DAYLIGHT
BEGIN:STANDARD
TZOFFSETFROM:-0700
TZOFFSETTO:-0800
TZNAME:PST
DTSTART:20221106T090000
END:STANDARD
BEGIN:DAYLIGHT
TZOFFSETFROM:-0800
TZOFFSETTO:-0700
TZNAME:PDT
DTSTART:20230312T100000
END:DAYLIGHT
BEGIN:STANDARD
TZOFFSETFROM:-0700
TZOFFSETTO:-0800
TZNAME:PST
DTSTART:20231105T090000
END:STANDARD
BEGIN:DAYLIGHT
TZOFFSETFROM:-0800
TZOFFSETTO:-0700
TZNAME:PDT
DTSTART:20240310T100000
END:DAYLIGHT
BEGIN:STANDARD
TZOFFSETFROM:-0700
TZOFFSETTO:-0800
TZNAME:PST
DTSTART:20241103T090000
END:STANDARD
BEGIN:DAYLIGHT
TZOFFSETFROM:-0800
TZOFFSETTO:-0700
TZNAME:PDT
DTSTART:20250309T100000
END:DAYLIGHT
BEGIN:STANDARD
TZOFFSETFROM:-0700
TZOFFSETTO:-0800
TZNAME:PST
DTSTART:20251102T090000
END:STANDARD
BEGIN:DAYLIGHT
TZOFFSETFROM:-0800
TZOFFSETTO:-0700
TZNAME:PDT
DTSTART:20260308T100000
END:DAYLIGHT
BEGIN:STANDARD
TZOFFSETFROM:-0700
TZOFFSETTO:-0800
TZNAME:PST
DTSTART:20261101T090000
END:STANDARD
END:VTIMEZONE
BEGIN:VEVENT
DTSTART;TZID=America/Los_Angeles:20251015T110000
DTEND;TZID=America/Los_Angeles:20251015T120000
DTSTAMP:20260419T225926
CREATED:20251013T183059Z
LAST-MODIFIED:20251013T183059Z
UID:10013356-1760526000-1760529600@link.ucop.edu
SUMMARY:Hertz
DESCRIPTION:Hertz will highlight UC contracted benefits\, including guaranteed unlimited mileage and no drop-off fees for one-way rentals within California. Participants will be entered to win one of several giveaways\, including FOUR (4) Gold Club status match upgrade from current tier\, up to and including President’s Circle and TWO (2) $100 Gift Certificates. Attendance is required to be eligible\, and a total of SIX (6) winners will be randomly selected during the session.
URL:https://link.ucop.edu/event/hertz/
END:VEVENT
BEGIN:VEVENT
DTSTART;TZID=America/Los_Angeles:20230503T110000
DTEND;TZID=America/Los_Angeles:20230503T114500
DTSTAMP:20260419T225926
CREATED:20230331T162259Z
LAST-MODIFIED:20230331T162259Z
UID:10008183-1683111600-1683114300@link.ucop.edu
SUMMARY:Benefits and Perks in Negotiated Contracts
DESCRIPTION:UC’s contracts with major airlines\, some hotels and specific car rental companies include discounts\, but many also have travel perks and this session will explore how to find and take advantage of them.
URL:https://link.ucop.edu/event/benefits-and-perks-in-negotiated-contracts/
END:VEVENT
BEGIN:VEVENT
DTSTART;TZID=America/Los_Angeles:20220302T110000
DTEND;TZID=America/Los_Angeles:20220302T120000
DTSTAMP:20260419T225926
CREATED:20220217T214056Z
LAST-MODIFIED:20220217T214056Z
UID:10009185-1646218800-1646222400@link.ucop.edu
SUMMARY:Travel Perks
DESCRIPTION:Explore the many benefits provided in UC’s contracts with the major airlines\, hotels and car rental companies\, and learn how to take advantage of them when booking travel. \nZoom: https://ucop.zoom.us/webinar/register/WN_pT9nfsYwT6ighZIIrOwOvQ
URL:https://link.ucop.edu/event/travel-perks/
END:VEVENT
END:VCALENDAR