BEGIN:VCALENDAR
VERSION:2.0
PRODID:-//Link: UCOP&#039;s e-newsletter - ECPv6.15.19//NONSGML v1.0//EN
CALSCALE:GREGORIAN
METHOD:PUBLISH
X-ORIGINAL-URL:https://link.ucop.edu
X-WR-CALDESC:Events for Link: UCOP&#039;s e-newsletter
REFRESH-INTERVAL;VALUE=DURATION:PT1H
X-Robots-Tag:noindex
X-PUBLISHED-TTL:PT1H
BEGIN:VTIMEZONE
TZID:America/Los_Angeles
BEGIN:STANDARD
TZOFFSETFROM:-0700
TZOFFSETTO:-0800
DTSTART:19701029T020000
RRULE:FREQ=YEARLY;BYMONTH=11;BYDAY=1SU
END:STANDARD
BEGIN:DAYLIGHT
DTSTART:19700402T020000
TZOFFSETFROM:-0800
TZOFFSETTO:-0700
RRULE:FREQ=YEARLY;BYMONTH=3;BYDAY=2SU
END:DAYLIGHT
END:VTIMEZONE
BEGIN:VTIMEZONE
TZID:America/Los_Angeles
BEGIN:DAYLIGHT
TZOFFSETFROM:-0800
TZOFFSETTO:-0700
TZNAME:PDT
DTSTART:20270314T100000
END:DAYLIGHT
BEGIN:STANDARD
TZOFFSETFROM:-0700
TZOFFSETTO:-0800
TZNAME:PST
DTSTART:20271107T090000
END:STANDARD
BEGIN:DAYLIGHT
TZOFFSETFROM:-0800
TZOFFSETTO:-0700
TZNAME:PDT
DTSTART:20280312T100000
END:DAYLIGHT
BEGIN:STANDARD
TZOFFSETFROM:-0700
TZOFFSETTO:-0800
TZNAME:PST
DTSTART:20281105T090000
END:STANDARD
BEGIN:DAYLIGHT
TZOFFSETFROM:-0800
TZOFFSETTO:-0700
TZNAME:PDT
DTSTART:20290311T100000
END:DAYLIGHT
BEGIN:STANDARD
TZOFFSETFROM:-0700
TZOFFSETTO:-0800
TZNAME:PST
DTSTART:20291104T090000
END:STANDARD
BEGIN:DAYLIGHT
TZOFFSETFROM:-0800
TZOFFSETTO:-0700
TZNAME:PDT
DTSTART:20300310T100000
END:DAYLIGHT
BEGIN:STANDARD
TZOFFSETFROM:-0700
TZOFFSETTO:-0800
TZNAME:PST
DTSTART:20301103T090000
END:STANDARD
END:VTIMEZONE
BEGIN:VEVENT
DTSTART;TZID=America/Los_Angeles:20281011T100000
DTEND;TZID=America/Los_Angeles:20281011T110000
DTSTAMP:20260419T055558
CREATED:20241022T185402Z
LAST-MODIFIED:20241022T185402Z
UID:10010569-1854871200-1854874800@link.ucop.edu
SUMMARY:BRC T&E Team Office Hours
DESCRIPTION:Have a travel or travel reimbursement-related question? Join the Business Resource Center Travel and Entertainment team for weekly office hours. \nZoom link: https://UCOP.zoom.us/j/3301316753?pwd=STFNemVrbTJsV0tJZU1BNWZFL2VSUT09 
URL:https://link.ucop.edu/event/brc-te-team-office-hours-2/2028-10-11/
ORGANIZER;CN="Mark Lozano%2C Business Resource Center":MAILTO:Mark.Lozano@UCOP.EDU
END:VEVENT
BEGIN:VEVENT
DTSTART;TZID=America/Los_Angeles:20281018T100000
DTEND;TZID=America/Los_Angeles:20281018T110000
DTSTAMP:20260419T055558
CREATED:20241022T185402Z
LAST-MODIFIED:20241022T185402Z
UID:10010570-1855476000-1855479600@link.ucop.edu
SUMMARY:BRC T&E Team Office Hours
DESCRIPTION:Have a travel or travel reimbursement-related question? Join the Business Resource Center Travel and Entertainment team for weekly office hours. \nZoom link: https://UCOP.zoom.us/j/3301316753?pwd=STFNemVrbTJsV0tJZU1BNWZFL2VSUT09 
URL:https://link.ucop.edu/event/brc-te-team-office-hours-2/2028-10-18/
ORGANIZER;CN="Mark Lozano%2C Business Resource Center":MAILTO:Mark.Lozano@UCOP.EDU
END:VEVENT
BEGIN:VEVENT
DTSTART;TZID=America/Los_Angeles:20281025T100000
DTEND;TZID=America/Los_Angeles:20281025T110000
DTSTAMP:20260419T055558
CREATED:20241022T185402Z
LAST-MODIFIED:20241022T185402Z
UID:10010571-1856080800-1856084400@link.ucop.edu
SUMMARY:BRC T&E Team Office Hours
DESCRIPTION:Have a travel or travel reimbursement-related question? Join the Business Resource Center Travel and Entertainment team for weekly office hours. \nZoom link: https://UCOP.zoom.us/j/3301316753?pwd=STFNemVrbTJsV0tJZU1BNWZFL2VSUT09 
URL:https://link.ucop.edu/event/brc-te-team-office-hours-2/2028-10-25/
ORGANIZER;CN="Mark Lozano%2C Business Resource Center":MAILTO:Mark.Lozano@UCOP.EDU
END:VEVENT
BEGIN:VEVENT
DTSTART;TZID=America/Los_Angeles:20281101T100000
DTEND;TZID=America/Los_Angeles:20281101T110000
DTSTAMP:20260419T055558
CREATED:20241022T185402Z
LAST-MODIFIED:20241022T185402Z
UID:10010572-1856685600-1856689200@link.ucop.edu
SUMMARY:BRC T&E Team Office Hours
DESCRIPTION:Have a travel or travel reimbursement-related question? Join the Business Resource Center Travel and Entertainment team for weekly office hours. \nZoom link: https://UCOP.zoom.us/j/3301316753?pwd=STFNemVrbTJsV0tJZU1BNWZFL2VSUT09 
URL:https://link.ucop.edu/event/brc-te-team-office-hours-2/2028-11-01/
ORGANIZER;CN="Mark Lozano%2C Business Resource Center":MAILTO:Mark.Lozano@UCOP.EDU
END:VEVENT
BEGIN:VEVENT
DTSTART;TZID=America/Los_Angeles:20281108T100000
DTEND;TZID=America/Los_Angeles:20281108T110000
DTSTAMP:20260419T055558
CREATED:20241022T185402Z
LAST-MODIFIED:20241022T185402Z
UID:10010573-1857290400-1857294000@link.ucop.edu
SUMMARY:BRC T&E Team Office Hours
DESCRIPTION:Have a travel or travel reimbursement-related question? Join the Business Resource Center Travel and Entertainment team for weekly office hours. \nZoom link: https://UCOP.zoom.us/j/3301316753?pwd=STFNemVrbTJsV0tJZU1BNWZFL2VSUT09 
URL:https://link.ucop.edu/event/brc-te-team-office-hours-2/2028-11-08/
ORGANIZER;CN="Mark Lozano%2C Business Resource Center":MAILTO:Mark.Lozano@UCOP.EDU
END:VEVENT
BEGIN:VEVENT
DTSTART;TZID=America/Los_Angeles:20281115T100000
DTEND;TZID=America/Los_Angeles:20281115T110000
DTSTAMP:20260419T055558
CREATED:20241022T185402Z
LAST-MODIFIED:20241022T185402Z
UID:10010574-1857895200-1857898800@link.ucop.edu
SUMMARY:BRC T&E Team Office Hours
DESCRIPTION:Have a travel or travel reimbursement-related question? Join the Business Resource Center Travel and Entertainment team for weekly office hours. \nZoom link: https://UCOP.zoom.us/j/3301316753?pwd=STFNemVrbTJsV0tJZU1BNWZFL2VSUT09 
URL:https://link.ucop.edu/event/brc-te-team-office-hours-2/2028-11-15/
ORGANIZER;CN="Mark Lozano%2C Business Resource Center":MAILTO:Mark.Lozano@UCOP.EDU
END:VEVENT
BEGIN:VEVENT
DTSTART;TZID=America/Los_Angeles:20281122T100000
DTEND;TZID=America/Los_Angeles:20281122T110000
DTSTAMP:20260419T055558
CREATED:20241022T185402Z
LAST-MODIFIED:20241022T185402Z
UID:10010575-1858500000-1858503600@link.ucop.edu
SUMMARY:BRC T&E Team Office Hours
DESCRIPTION:Have a travel or travel reimbursement-related question? Join the Business Resource Center Travel and Entertainment team for weekly office hours. \nZoom link: https://UCOP.zoom.us/j/3301316753?pwd=STFNemVrbTJsV0tJZU1BNWZFL2VSUT09 
URL:https://link.ucop.edu/event/brc-te-team-office-hours-2/2028-11-22/
ORGANIZER;CN="Mark Lozano%2C Business Resource Center":MAILTO:Mark.Lozano@UCOP.EDU
END:VEVENT
BEGIN:VEVENT
DTSTART;TZID=America/Los_Angeles:20281129T100000
DTEND;TZID=America/Los_Angeles:20281129T110000
DTSTAMP:20260419T055558
CREATED:20241022T185402Z
LAST-MODIFIED:20241022T185402Z
UID:10010576-1859104800-1859108400@link.ucop.edu
SUMMARY:BRC T&E Team Office Hours
DESCRIPTION:Have a travel or travel reimbursement-related question? Join the Business Resource Center Travel and Entertainment team for weekly office hours. \nZoom link: https://UCOP.zoom.us/j/3301316753?pwd=STFNemVrbTJsV0tJZU1BNWZFL2VSUT09 
URL:https://link.ucop.edu/event/brc-te-team-office-hours-2/2028-11-29/
ORGANIZER;CN="Mark Lozano%2C Business Resource Center":MAILTO:Mark.Lozano@UCOP.EDU
END:VEVENT
BEGIN:VEVENT
DTSTART;TZID=America/Los_Angeles:20281206T100000
DTEND;TZID=America/Los_Angeles:20281206T110000
DTSTAMP:20260419T055558
CREATED:20241022T185402Z
LAST-MODIFIED:20241022T185402Z
UID:10010577-1859709600-1859713200@link.ucop.edu
SUMMARY:BRC T&E Team Office Hours
DESCRIPTION:Have a travel or travel reimbursement-related question? Join the Business Resource Center Travel and Entertainment team for weekly office hours. \nZoom link: https://UCOP.zoom.us/j/3301316753?pwd=STFNemVrbTJsV0tJZU1BNWZFL2VSUT09 
URL:https://link.ucop.edu/event/brc-te-team-office-hours-2/2028-12-06/
ORGANIZER;CN="Mark Lozano%2C Business Resource Center":MAILTO:Mark.Lozano@UCOP.EDU
END:VEVENT
BEGIN:VEVENT
DTSTART;TZID=America/Los_Angeles:20281213T100000
DTEND;TZID=America/Los_Angeles:20281213T110000
DTSTAMP:20260419T055558
CREATED:20241022T185402Z
LAST-MODIFIED:20241022T185402Z
UID:10010578-1860314400-1860318000@link.ucop.edu
SUMMARY:BRC T&E Team Office Hours
DESCRIPTION:Have a travel or travel reimbursement-related question? Join the Business Resource Center Travel and Entertainment team for weekly office hours. \nZoom link: https://UCOP.zoom.us/j/3301316753?pwd=STFNemVrbTJsV0tJZU1BNWZFL2VSUT09 
URL:https://link.ucop.edu/event/brc-te-team-office-hours-2/2028-12-13/
ORGANIZER;CN="Mark Lozano%2C Business Resource Center":MAILTO:Mark.Lozano@UCOP.EDU
END:VEVENT
BEGIN:VEVENT
DTSTART;TZID=America/Los_Angeles:20281220T100000
DTEND;TZID=America/Los_Angeles:20281220T110000
DTSTAMP:20260419T055558
CREATED:20241022T185402Z
LAST-MODIFIED:20241022T185402Z
UID:10010579-1860919200-1860922800@link.ucop.edu
SUMMARY:BRC T&E Team Office Hours
DESCRIPTION:Have a travel or travel reimbursement-related question? Join the Business Resource Center Travel and Entertainment team for weekly office hours. \nZoom link: https://UCOP.zoom.us/j/3301316753?pwd=STFNemVrbTJsV0tJZU1BNWZFL2VSUT09 
URL:https://link.ucop.edu/event/brc-te-team-office-hours-2/2028-12-20/
ORGANIZER;CN="Mark Lozano%2C Business Resource Center":MAILTO:Mark.Lozano@UCOP.EDU
END:VEVENT
BEGIN:VEVENT
DTSTART;TZID=America/Los_Angeles:20281227T100000
DTEND;TZID=America/Los_Angeles:20281227T110000
DTSTAMP:20260419T055558
CREATED:20241022T185402Z
LAST-MODIFIED:20241022T185402Z
UID:10010580-1861524000-1861527600@link.ucop.edu
SUMMARY:BRC T&E Team Office Hours
DESCRIPTION:Have a travel or travel reimbursement-related question? Join the Business Resource Center Travel and Entertainment team for weekly office hours. \nZoom link: https://UCOP.zoom.us/j/3301316753?pwd=STFNemVrbTJsV0tJZU1BNWZFL2VSUT09 
URL:https://link.ucop.edu/event/brc-te-team-office-hours-2/2028-12-27/
ORGANIZER;CN="Mark Lozano%2C Business Resource Center":MAILTO:Mark.Lozano@UCOP.EDU
END:VEVENT
BEGIN:VEVENT
DTSTART;TZID=America/Los_Angeles:20290103T100000
DTEND;TZID=America/Los_Angeles:20290103T110000
DTSTAMP:20260419T055558
CREATED:20241022T185402Z
LAST-MODIFIED:20241022T185402Z
UID:10010581-1862128800-1862132400@link.ucop.edu
SUMMARY:BRC T&E Team Office Hours
DESCRIPTION:Have a travel or travel reimbursement-related question? Join the Business Resource Center Travel and Entertainment team for weekly office hours. \nZoom link: https://UCOP.zoom.us/j/3301316753?pwd=STFNemVrbTJsV0tJZU1BNWZFL2VSUT09 
URL:https://link.ucop.edu/event/brc-te-team-office-hours-2/2029-01-03/
ORGANIZER;CN="Mark Lozano%2C Business Resource Center":MAILTO:Mark.Lozano@UCOP.EDU
END:VEVENT
BEGIN:VEVENT
DTSTART;TZID=America/Los_Angeles:20290110T100000
DTEND;TZID=America/Los_Angeles:20290110T110000
DTSTAMP:20260419T055558
CREATED:20241022T185402Z
LAST-MODIFIED:20241022T185402Z
UID:10010582-1862733600-1862737200@link.ucop.edu
SUMMARY:BRC T&E Team Office Hours
DESCRIPTION:Have a travel or travel reimbursement-related question? Join the Business Resource Center Travel and Entertainment team for weekly office hours. \nZoom link: https://UCOP.zoom.us/j/3301316753?pwd=STFNemVrbTJsV0tJZU1BNWZFL2VSUT09 
URL:https://link.ucop.edu/event/brc-te-team-office-hours-2/2029-01-10/
ORGANIZER;CN="Mark Lozano%2C Business Resource Center":MAILTO:Mark.Lozano@UCOP.EDU
END:VEVENT
BEGIN:VEVENT
DTSTART;TZID=America/Los_Angeles:20290117T100000
DTEND;TZID=America/Los_Angeles:20290117T110000
DTSTAMP:20260419T055558
CREATED:20241022T185402Z
LAST-MODIFIED:20241022T185402Z
UID:10010583-1863338400-1863342000@link.ucop.edu
SUMMARY:BRC T&E Team Office Hours
DESCRIPTION:Have a travel or travel reimbursement-related question? Join the Business Resource Center Travel and Entertainment team for weekly office hours. \nZoom link: https://UCOP.zoom.us/j/3301316753?pwd=STFNemVrbTJsV0tJZU1BNWZFL2VSUT09 
URL:https://link.ucop.edu/event/brc-te-team-office-hours-2/2029-01-17/
ORGANIZER;CN="Mark Lozano%2C Business Resource Center":MAILTO:Mark.Lozano@UCOP.EDU
END:VEVENT
BEGIN:VEVENT
DTSTART;TZID=America/Los_Angeles:20290124T100000
DTEND;TZID=America/Los_Angeles:20290124T110000
DTSTAMP:20260419T055558
CREATED:20241022T185402Z
LAST-MODIFIED:20241022T185402Z
UID:10010584-1863943200-1863946800@link.ucop.edu
SUMMARY:BRC T&E Team Office Hours
DESCRIPTION:Have a travel or travel reimbursement-related question? Join the Business Resource Center Travel and Entertainment team for weekly office hours. \nZoom link: https://UCOP.zoom.us/j/3301316753?pwd=STFNemVrbTJsV0tJZU1BNWZFL2VSUT09 
URL:https://link.ucop.edu/event/brc-te-team-office-hours-2/2029-01-24/
ORGANIZER;CN="Mark Lozano%2C Business Resource Center":MAILTO:Mark.Lozano@UCOP.EDU
END:VEVENT
BEGIN:VEVENT
DTSTART;TZID=America/Los_Angeles:20290131T100000
DTEND;TZID=America/Los_Angeles:20290131T110000
DTSTAMP:20260419T055558
CREATED:20241022T185402Z
LAST-MODIFIED:20241022T185402Z
UID:10010585-1864548000-1864551600@link.ucop.edu
SUMMARY:BRC T&E Team Office Hours
DESCRIPTION:Have a travel or travel reimbursement-related question? Join the Business Resource Center Travel and Entertainment team for weekly office hours. \nZoom link: https://UCOP.zoom.us/j/3301316753?pwd=STFNemVrbTJsV0tJZU1BNWZFL2VSUT09 
URL:https://link.ucop.edu/event/brc-te-team-office-hours-2/2029-01-31/
ORGANIZER;CN="Mark Lozano%2C Business Resource Center":MAILTO:Mark.Lozano@UCOP.EDU
END:VEVENT
BEGIN:VEVENT
DTSTART;TZID=America/Los_Angeles:20290207T100000
DTEND;TZID=America/Los_Angeles:20290207T110000
DTSTAMP:20260419T055558
CREATED:20241022T185402Z
LAST-MODIFIED:20241022T185402Z
UID:10010586-1865152800-1865156400@link.ucop.edu
SUMMARY:BRC T&E Team Office Hours
DESCRIPTION:Have a travel or travel reimbursement-related question? Join the Business Resource Center Travel and Entertainment team for weekly office hours. \nZoom link: https://UCOP.zoom.us/j/3301316753?pwd=STFNemVrbTJsV0tJZU1BNWZFL2VSUT09 
URL:https://link.ucop.edu/event/brc-te-team-office-hours-2/2029-02-07/
ORGANIZER;CN="Mark Lozano%2C Business Resource Center":MAILTO:Mark.Lozano@UCOP.EDU
END:VEVENT
BEGIN:VEVENT
DTSTART;TZID=America/Los_Angeles:20290214T100000
DTEND;TZID=America/Los_Angeles:20290214T110000
DTSTAMP:20260419T055558
CREATED:20241022T185402Z
LAST-MODIFIED:20241022T185402Z
UID:10010587-1865757600-1865761200@link.ucop.edu
SUMMARY:BRC T&E Team Office Hours
DESCRIPTION:Have a travel or travel reimbursement-related question? Join the Business Resource Center Travel and Entertainment team for weekly office hours. \nZoom link: https://UCOP.zoom.us/j/3301316753?pwd=STFNemVrbTJsV0tJZU1BNWZFL2VSUT09 
URL:https://link.ucop.edu/event/brc-te-team-office-hours-2/2029-02-14/
ORGANIZER;CN="Mark Lozano%2C Business Resource Center":MAILTO:Mark.Lozano@UCOP.EDU
END:VEVENT
BEGIN:VEVENT
DTSTART;TZID=America/Los_Angeles:20290221T100000
DTEND;TZID=America/Los_Angeles:20290221T110000
DTSTAMP:20260419T055558
CREATED:20241022T185402Z
LAST-MODIFIED:20241022T185402Z
UID:10010588-1866362400-1866366000@link.ucop.edu
SUMMARY:BRC T&E Team Office Hours
DESCRIPTION:Have a travel or travel reimbursement-related question? Join the Business Resource Center Travel and Entertainment team for weekly office hours. \nZoom link: https://UCOP.zoom.us/j/3301316753?pwd=STFNemVrbTJsV0tJZU1BNWZFL2VSUT09 
URL:https://link.ucop.edu/event/brc-te-team-office-hours-2/2029-02-21/
ORGANIZER;CN="Mark Lozano%2C Business Resource Center":MAILTO:Mark.Lozano@UCOP.EDU
END:VEVENT
BEGIN:VEVENT
DTSTART;TZID=America/Los_Angeles:20290228T100000
DTEND;TZID=America/Los_Angeles:20290228T110000
DTSTAMP:20260419T055558
CREATED:20241022T185402Z
LAST-MODIFIED:20241022T185402Z
UID:10010589-1866967200-1866970800@link.ucop.edu
SUMMARY:BRC T&E Team Office Hours
DESCRIPTION:Have a travel or travel reimbursement-related question? Join the Business Resource Center Travel and Entertainment team for weekly office hours. \nZoom link: https://UCOP.zoom.us/j/3301316753?pwd=STFNemVrbTJsV0tJZU1BNWZFL2VSUT09 
URL:https://link.ucop.edu/event/brc-te-team-office-hours-2/2029-02-28/
ORGANIZER;CN="Mark Lozano%2C Business Resource Center":MAILTO:Mark.Lozano@UCOP.EDU
END:VEVENT
BEGIN:VEVENT
DTSTART;TZID=America/Los_Angeles:20290307T100000
DTEND;TZID=America/Los_Angeles:20290307T110000
DTSTAMP:20260419T055558
CREATED:20241022T185402Z
LAST-MODIFIED:20241022T185402Z
UID:10010590-1867572000-1867575600@link.ucop.edu
SUMMARY:BRC T&E Team Office Hours
DESCRIPTION:Have a travel or travel reimbursement-related question? Join the Business Resource Center Travel and Entertainment team for weekly office hours. \nZoom link: https://UCOP.zoom.us/j/3301316753?pwd=STFNemVrbTJsV0tJZU1BNWZFL2VSUT09 
URL:https://link.ucop.edu/event/brc-te-team-office-hours-2/2029-03-07/
ORGANIZER;CN="Mark Lozano%2C Business Resource Center":MAILTO:Mark.Lozano@UCOP.EDU
END:VEVENT
BEGIN:VEVENT
DTSTART;TZID=America/Los_Angeles:20290314T100000
DTEND;TZID=America/Los_Angeles:20290314T110000
DTSTAMP:20260419T055558
CREATED:20241022T185402Z
LAST-MODIFIED:20241022T185402Z
UID:10010591-1868176800-1868180400@link.ucop.edu
SUMMARY:BRC T&E Team Office Hours
DESCRIPTION:Have a travel or travel reimbursement-related question? Join the Business Resource Center Travel and Entertainment team for weekly office hours. \nZoom link: https://UCOP.zoom.us/j/3301316753?pwd=STFNemVrbTJsV0tJZU1BNWZFL2VSUT09 
URL:https://link.ucop.edu/event/brc-te-team-office-hours-2/2029-03-14/
ORGANIZER;CN="Mark Lozano%2C Business Resource Center":MAILTO:Mark.Lozano@UCOP.EDU
END:VEVENT
BEGIN:VEVENT
DTSTART;TZID=America/Los_Angeles:20290321T100000
DTEND;TZID=America/Los_Angeles:20290321T110000
DTSTAMP:20260419T055558
CREATED:20241022T185402Z
LAST-MODIFIED:20241022T185402Z
UID:10010592-1868781600-1868785200@link.ucop.edu
SUMMARY:BRC T&E Team Office Hours
DESCRIPTION:Have a travel or travel reimbursement-related question? Join the Business Resource Center Travel and Entertainment team for weekly office hours. \nZoom link: https://UCOP.zoom.us/j/3301316753?pwd=STFNemVrbTJsV0tJZU1BNWZFL2VSUT09 
URL:https://link.ucop.edu/event/brc-te-team-office-hours-2/2029-03-21/
ORGANIZER;CN="Mark Lozano%2C Business Resource Center":MAILTO:Mark.Lozano@UCOP.EDU
END:VEVENT
BEGIN:VEVENT
DTSTART;TZID=America/Los_Angeles:20290328T100000
DTEND;TZID=America/Los_Angeles:20290328T110000
DTSTAMP:20260419T055558
CREATED:20241022T185402Z
LAST-MODIFIED:20241022T185402Z
UID:10010593-1869386400-1869390000@link.ucop.edu
SUMMARY:BRC T&E Team Office Hours
DESCRIPTION:Have a travel or travel reimbursement-related question? Join the Business Resource Center Travel and Entertainment team for weekly office hours. \nZoom link: https://UCOP.zoom.us/j/3301316753?pwd=STFNemVrbTJsV0tJZU1BNWZFL2VSUT09 
URL:https://link.ucop.edu/event/brc-te-team-office-hours-2/2029-03-28/
ORGANIZER;CN="Mark Lozano%2C Business Resource Center":MAILTO:Mark.Lozano@UCOP.EDU
END:VEVENT
BEGIN:VEVENT
DTSTART;TZID=America/Los_Angeles:20290404T100000
DTEND;TZID=America/Los_Angeles:20290404T110000
DTSTAMP:20260419T055558
CREATED:20241022T185402Z
LAST-MODIFIED:20241022T185402Z
UID:10010594-1869991200-1869994800@link.ucop.edu
SUMMARY:BRC T&E Team Office Hours
DESCRIPTION:Have a travel or travel reimbursement-related question? Join the Business Resource Center Travel and Entertainment team for weekly office hours. \nZoom link: https://UCOP.zoom.us/j/3301316753?pwd=STFNemVrbTJsV0tJZU1BNWZFL2VSUT09 
URL:https://link.ucop.edu/event/brc-te-team-office-hours-2/2029-04-04/
ORGANIZER;CN="Mark Lozano%2C Business Resource Center":MAILTO:Mark.Lozano@UCOP.EDU
END:VEVENT
BEGIN:VEVENT
DTSTART;TZID=America/Los_Angeles:20290411T100000
DTEND;TZID=America/Los_Angeles:20290411T110000
DTSTAMP:20260419T055558
CREATED:20241022T185402Z
LAST-MODIFIED:20241022T185402Z
UID:10010595-1870596000-1870599600@link.ucop.edu
SUMMARY:BRC T&E Team Office Hours
DESCRIPTION:Have a travel or travel reimbursement-related question? Join the Business Resource Center Travel and Entertainment team for weekly office hours. \nZoom link: https://UCOP.zoom.us/j/3301316753?pwd=STFNemVrbTJsV0tJZU1BNWZFL2VSUT09 
URL:https://link.ucop.edu/event/brc-te-team-office-hours-2/2029-04-11/
ORGANIZER;CN="Mark Lozano%2C Business Resource Center":MAILTO:Mark.Lozano@UCOP.EDU
END:VEVENT
BEGIN:VEVENT
DTSTART;TZID=America/Los_Angeles:20290418T100000
DTEND;TZID=America/Los_Angeles:20290418T110000
DTSTAMP:20260419T055558
CREATED:20241022T185402Z
LAST-MODIFIED:20241022T185402Z
UID:10010596-1871200800-1871204400@link.ucop.edu
SUMMARY:BRC T&E Team Office Hours
DESCRIPTION:Have a travel or travel reimbursement-related question? Join the Business Resource Center Travel and Entertainment team for weekly office hours. \nZoom link: https://UCOP.zoom.us/j/3301316753?pwd=STFNemVrbTJsV0tJZU1BNWZFL2VSUT09 
URL:https://link.ucop.edu/event/brc-te-team-office-hours-2/2029-04-18/
ORGANIZER;CN="Mark Lozano%2C Business Resource Center":MAILTO:Mark.Lozano@UCOP.EDU
END:VEVENT
BEGIN:VEVENT
DTSTART;TZID=America/Los_Angeles:20290425T100000
DTEND;TZID=America/Los_Angeles:20290425T110000
DTSTAMP:20260419T055558
CREATED:20241022T185402Z
LAST-MODIFIED:20241022T185402Z
UID:10010597-1871805600-1871809200@link.ucop.edu
SUMMARY:BRC T&E Team Office Hours
DESCRIPTION:Have a travel or travel reimbursement-related question? Join the Business Resource Center Travel and Entertainment team for weekly office hours. \nZoom link: https://UCOP.zoom.us/j/3301316753?pwd=STFNemVrbTJsV0tJZU1BNWZFL2VSUT09 
URL:https://link.ucop.edu/event/brc-te-team-office-hours-2/2029-04-25/
ORGANIZER;CN="Mark Lozano%2C Business Resource Center":MAILTO:Mark.Lozano@UCOP.EDU
END:VEVENT
BEGIN:VEVENT
DTSTART;TZID=America/Los_Angeles:20290502T100000
DTEND;TZID=America/Los_Angeles:20290502T110000
DTSTAMP:20260419T055558
CREATED:20241022T185402Z
LAST-MODIFIED:20241022T185402Z
UID:10010598-1872410400-1872414000@link.ucop.edu
SUMMARY:BRC T&E Team Office Hours
DESCRIPTION:Have a travel or travel reimbursement-related question? Join the Business Resource Center Travel and Entertainment team for weekly office hours. \nZoom link: https://UCOP.zoom.us/j/3301316753?pwd=STFNemVrbTJsV0tJZU1BNWZFL2VSUT09 
URL:https://link.ucop.edu/event/brc-te-team-office-hours-2/2029-05-02/
ORGANIZER;CN="Mark Lozano%2C Business Resource Center":MAILTO:Mark.Lozano@UCOP.EDU
END:VEVENT
END:VCALENDAR