BEGIN:VCALENDAR
VERSION:2.0
PRODID:-//Link: UCOP&#039;s e-newsletter - ECPv6.15.19//NONSGML v1.0//EN
CALSCALE:GREGORIAN
METHOD:PUBLISH
X-ORIGINAL-URL:https://link.ucop.edu
X-WR-CALDESC:Events for Link: UCOP&#039;s e-newsletter
REFRESH-INTERVAL;VALUE=DURATION:PT1H
X-Robots-Tag:noindex
X-PUBLISHED-TTL:PT1H
BEGIN:VTIMEZONE
TZID:America/Los_Angeles
BEGIN:STANDARD
TZOFFSETFROM:-0700
TZOFFSETTO:-0800
DTSTART:19701029T020000
RRULE:FREQ=YEARLY;BYMONTH=11;BYDAY=1SU
END:STANDARD
BEGIN:DAYLIGHT
DTSTART:19700402T020000
TZOFFSETFROM:-0800
TZOFFSETTO:-0700
RRULE:FREQ=YEARLY;BYMONTH=3;BYDAY=2SU
END:DAYLIGHT
END:VTIMEZONE
BEGIN:VTIMEZONE
TZID:America/Los_Angeles
BEGIN:DAYLIGHT
TZOFFSETFROM:-0800
TZOFFSETTO:-0700
TZNAME:PDT
DTSTART:20280312T100000
END:DAYLIGHT
BEGIN:STANDARD
TZOFFSETFROM:-0700
TZOFFSETTO:-0800
TZNAME:PST
DTSTART:20281105T090000
END:STANDARD
BEGIN:DAYLIGHT
TZOFFSETFROM:-0800
TZOFFSETTO:-0700
TZNAME:PDT
DTSTART:20290311T100000
END:DAYLIGHT
BEGIN:STANDARD
TZOFFSETFROM:-0700
TZOFFSETTO:-0800
TZNAME:PST
DTSTART:20291104T090000
END:STANDARD
BEGIN:DAYLIGHT
TZOFFSETFROM:-0800
TZOFFSETTO:-0700
TZNAME:PDT
DTSTART:20300310T100000
END:DAYLIGHT
BEGIN:STANDARD
TZOFFSETFROM:-0700
TZOFFSETTO:-0800
TZNAME:PST
DTSTART:20301103T090000
END:STANDARD
END:VTIMEZONE
BEGIN:VEVENT
DTSTART;TZID=America/Los_Angeles:20290523T100000
DTEND;TZID=America/Los_Angeles:20290523T110000
DTSTAMP:20260419T110206
CREATED:20241022T185402Z
LAST-MODIFIED:20241022T185402Z
UID:10010601-1874224800-1874228400@link.ucop.edu
SUMMARY:BRC T&E Team Office Hours
DESCRIPTION:Have a travel or travel reimbursement-related question? Join the Business Resource Center Travel and Entertainment team for weekly office hours. \nZoom link: https://UCOP.zoom.us/j/3301316753?pwd=STFNemVrbTJsV0tJZU1BNWZFL2VSUT09 
URL:https://link.ucop.edu/event/brc-te-team-office-hours-2/2029-05-23/
ORGANIZER;CN="Mark Lozano%2C Business Resource Center":MAILTO:Mark.Lozano@UCOP.EDU
END:VEVENT
BEGIN:VEVENT
DTSTART;TZID=America/Los_Angeles:20290530T100000
DTEND;TZID=America/Los_Angeles:20290530T110000
DTSTAMP:20260419T110206
CREATED:20241022T185402Z
LAST-MODIFIED:20241022T185402Z
UID:10010602-1874829600-1874833200@link.ucop.edu
SUMMARY:BRC T&E Team Office Hours
DESCRIPTION:Have a travel or travel reimbursement-related question? Join the Business Resource Center Travel and Entertainment team for weekly office hours. \nZoom link: https://UCOP.zoom.us/j/3301316753?pwd=STFNemVrbTJsV0tJZU1BNWZFL2VSUT09 
URL:https://link.ucop.edu/event/brc-te-team-office-hours-2/2029-05-30/
ORGANIZER;CN="Mark Lozano%2C Business Resource Center":MAILTO:Mark.Lozano@UCOP.EDU
END:VEVENT
BEGIN:VEVENT
DTSTART;TZID=America/Los_Angeles:20290606T100000
DTEND;TZID=America/Los_Angeles:20290606T110000
DTSTAMP:20260419T110206
CREATED:20241022T185402Z
LAST-MODIFIED:20241022T185402Z
UID:10010603-1875434400-1875438000@link.ucop.edu
SUMMARY:BRC T&E Team Office Hours
DESCRIPTION:Have a travel or travel reimbursement-related question? Join the Business Resource Center Travel and Entertainment team for weekly office hours. \nZoom link: https://UCOP.zoom.us/j/3301316753?pwd=STFNemVrbTJsV0tJZU1BNWZFL2VSUT09 
URL:https://link.ucop.edu/event/brc-te-team-office-hours-2/2029-06-06/
ORGANIZER;CN="Mark Lozano%2C Business Resource Center":MAILTO:Mark.Lozano@UCOP.EDU
END:VEVENT
BEGIN:VEVENT
DTSTART;TZID=America/Los_Angeles:20290613T100000
DTEND;TZID=America/Los_Angeles:20290613T110000
DTSTAMP:20260419T110206
CREATED:20241022T185402Z
LAST-MODIFIED:20241022T185402Z
UID:10010604-1876039200-1876042800@link.ucop.edu
SUMMARY:BRC T&E Team Office Hours
DESCRIPTION:Have a travel or travel reimbursement-related question? Join the Business Resource Center Travel and Entertainment team for weekly office hours. \nZoom link: https://UCOP.zoom.us/j/3301316753?pwd=STFNemVrbTJsV0tJZU1BNWZFL2VSUT09 
URL:https://link.ucop.edu/event/brc-te-team-office-hours-2/2029-06-13/
ORGANIZER;CN="Mark Lozano%2C Business Resource Center":MAILTO:Mark.Lozano@UCOP.EDU
END:VEVENT
BEGIN:VEVENT
DTSTART;TZID=America/Los_Angeles:20290620T100000
DTEND;TZID=America/Los_Angeles:20290620T110000
DTSTAMP:20260419T110206
CREATED:20241022T185402Z
LAST-MODIFIED:20241022T185402Z
UID:10010605-1876644000-1876647600@link.ucop.edu
SUMMARY:BRC T&E Team Office Hours
DESCRIPTION:Have a travel or travel reimbursement-related question? Join the Business Resource Center Travel and Entertainment team for weekly office hours. \nZoom link: https://UCOP.zoom.us/j/3301316753?pwd=STFNemVrbTJsV0tJZU1BNWZFL2VSUT09 
URL:https://link.ucop.edu/event/brc-te-team-office-hours-2/2029-06-20/
ORGANIZER;CN="Mark Lozano%2C Business Resource Center":MAILTO:Mark.Lozano@UCOP.EDU
END:VEVENT
BEGIN:VEVENT
DTSTART;TZID=America/Los_Angeles:20290627T100000
DTEND;TZID=America/Los_Angeles:20290627T110000
DTSTAMP:20260419T110206
CREATED:20241022T185402Z
LAST-MODIFIED:20241022T185402Z
UID:10010606-1877248800-1877252400@link.ucop.edu
SUMMARY:BRC T&E Team Office Hours
DESCRIPTION:Have a travel or travel reimbursement-related question? Join the Business Resource Center Travel and Entertainment team for weekly office hours. \nZoom link: https://UCOP.zoom.us/j/3301316753?pwd=STFNemVrbTJsV0tJZU1BNWZFL2VSUT09 
URL:https://link.ucop.edu/event/brc-te-team-office-hours-2/2029-06-27/
ORGANIZER;CN="Mark Lozano%2C Business Resource Center":MAILTO:Mark.Lozano@UCOP.EDU
END:VEVENT
BEGIN:VEVENT
DTSTART;TZID=America/Los_Angeles:20290704T100000
DTEND;TZID=America/Los_Angeles:20290704T110000
DTSTAMP:20260419T110206
CREATED:20241022T185402Z
LAST-MODIFIED:20241022T185402Z
UID:10010607-1877853600-1877857200@link.ucop.edu
SUMMARY:BRC T&E Team Office Hours
DESCRIPTION:Have a travel or travel reimbursement-related question? Join the Business Resource Center Travel and Entertainment team for weekly office hours. \nZoom link: https://UCOP.zoom.us/j/3301316753?pwd=STFNemVrbTJsV0tJZU1BNWZFL2VSUT09 
URL:https://link.ucop.edu/event/brc-te-team-office-hours-2/2029-07-04/
ORGANIZER;CN="Mark Lozano%2C Business Resource Center":MAILTO:Mark.Lozano@UCOP.EDU
END:VEVENT
BEGIN:VEVENT
DTSTART;TZID=America/Los_Angeles:20290711T100000
DTEND;TZID=America/Los_Angeles:20290711T110000
DTSTAMP:20260419T110206
CREATED:20241022T185402Z
LAST-MODIFIED:20241022T185402Z
UID:10010608-1878458400-1878462000@link.ucop.edu
SUMMARY:BRC T&E Team Office Hours
DESCRIPTION:Have a travel or travel reimbursement-related question? Join the Business Resource Center Travel and Entertainment team for weekly office hours. \nZoom link: https://UCOP.zoom.us/j/3301316753?pwd=STFNemVrbTJsV0tJZU1BNWZFL2VSUT09 
URL:https://link.ucop.edu/event/brc-te-team-office-hours-2/2029-07-11/
ORGANIZER;CN="Mark Lozano%2C Business Resource Center":MAILTO:Mark.Lozano@UCOP.EDU
END:VEVENT
BEGIN:VEVENT
DTSTART;TZID=America/Los_Angeles:20290718T100000
DTEND;TZID=America/Los_Angeles:20290718T110000
DTSTAMP:20260419T110206
CREATED:20241022T185402Z
LAST-MODIFIED:20241022T185402Z
UID:10010609-1879063200-1879066800@link.ucop.edu
SUMMARY:BRC T&E Team Office Hours
DESCRIPTION:Have a travel or travel reimbursement-related question? Join the Business Resource Center Travel and Entertainment team for weekly office hours. \nZoom link: https://UCOP.zoom.us/j/3301316753?pwd=STFNemVrbTJsV0tJZU1BNWZFL2VSUT09 
URL:https://link.ucop.edu/event/brc-te-team-office-hours-2/2029-07-18/
ORGANIZER;CN="Mark Lozano%2C Business Resource Center":MAILTO:Mark.Lozano@UCOP.EDU
END:VEVENT
BEGIN:VEVENT
DTSTART;TZID=America/Los_Angeles:20290725T100000
DTEND;TZID=America/Los_Angeles:20290725T110000
DTSTAMP:20260419T110206
CREATED:20241022T185402Z
LAST-MODIFIED:20241022T185402Z
UID:10010610-1879668000-1879671600@link.ucop.edu
SUMMARY:BRC T&E Team Office Hours
DESCRIPTION:Have a travel or travel reimbursement-related question? Join the Business Resource Center Travel and Entertainment team for weekly office hours. \nZoom link: https://UCOP.zoom.us/j/3301316753?pwd=STFNemVrbTJsV0tJZU1BNWZFL2VSUT09 
URL:https://link.ucop.edu/event/brc-te-team-office-hours-2/2029-07-25/
ORGANIZER;CN="Mark Lozano%2C Business Resource Center":MAILTO:Mark.Lozano@UCOP.EDU
END:VEVENT
BEGIN:VEVENT
DTSTART;TZID=America/Los_Angeles:20290801T100000
DTEND;TZID=America/Los_Angeles:20290801T110000
DTSTAMP:20260419T110206
CREATED:20241022T185402Z
LAST-MODIFIED:20241022T185402Z
UID:10010611-1880272800-1880276400@link.ucop.edu
SUMMARY:BRC T&E Team Office Hours
DESCRIPTION:Have a travel or travel reimbursement-related question? Join the Business Resource Center Travel and Entertainment team for weekly office hours. \nZoom link: https://UCOP.zoom.us/j/3301316753?pwd=STFNemVrbTJsV0tJZU1BNWZFL2VSUT09 
URL:https://link.ucop.edu/event/brc-te-team-office-hours-2/2029-08-01/
ORGANIZER;CN="Mark Lozano%2C Business Resource Center":MAILTO:Mark.Lozano@UCOP.EDU
END:VEVENT
BEGIN:VEVENT
DTSTART;TZID=America/Los_Angeles:20290808T100000
DTEND;TZID=America/Los_Angeles:20290808T110000
DTSTAMP:20260419T110206
CREATED:20241022T185402Z
LAST-MODIFIED:20241022T185402Z
UID:10010612-1880877600-1880881200@link.ucop.edu
SUMMARY:BRC T&E Team Office Hours
DESCRIPTION:Have a travel or travel reimbursement-related question? Join the Business Resource Center Travel and Entertainment team for weekly office hours. \nZoom link: https://UCOP.zoom.us/j/3301316753?pwd=STFNemVrbTJsV0tJZU1BNWZFL2VSUT09 
URL:https://link.ucop.edu/event/brc-te-team-office-hours-2/2029-08-08/
ORGANIZER;CN="Mark Lozano%2C Business Resource Center":MAILTO:Mark.Lozano@UCOP.EDU
END:VEVENT
BEGIN:VEVENT
DTSTART;TZID=America/Los_Angeles:20290815T100000
DTEND;TZID=America/Los_Angeles:20290815T110000
DTSTAMP:20260419T110206
CREATED:20241022T185402Z
LAST-MODIFIED:20241022T185402Z
UID:10010613-1881482400-1881486000@link.ucop.edu
SUMMARY:BRC T&E Team Office Hours
DESCRIPTION:Have a travel or travel reimbursement-related question? Join the Business Resource Center Travel and Entertainment team for weekly office hours. \nZoom link: https://UCOP.zoom.us/j/3301316753?pwd=STFNemVrbTJsV0tJZU1BNWZFL2VSUT09 
URL:https://link.ucop.edu/event/brc-te-team-office-hours-2/2029-08-15/
ORGANIZER;CN="Mark Lozano%2C Business Resource Center":MAILTO:Mark.Lozano@UCOP.EDU
END:VEVENT
BEGIN:VEVENT
DTSTART;TZID=America/Los_Angeles:20290822T100000
DTEND;TZID=America/Los_Angeles:20290822T110000
DTSTAMP:20260419T110206
CREATED:20241022T185402Z
LAST-MODIFIED:20241022T185402Z
UID:10010614-1882087200-1882090800@link.ucop.edu
SUMMARY:BRC T&E Team Office Hours
DESCRIPTION:Have a travel or travel reimbursement-related question? Join the Business Resource Center Travel and Entertainment team for weekly office hours. \nZoom link: https://UCOP.zoom.us/j/3301316753?pwd=STFNemVrbTJsV0tJZU1BNWZFL2VSUT09 
URL:https://link.ucop.edu/event/brc-te-team-office-hours-2/2029-08-22/
ORGANIZER;CN="Mark Lozano%2C Business Resource Center":MAILTO:Mark.Lozano@UCOP.EDU
END:VEVENT
BEGIN:VEVENT
DTSTART;TZID=America/Los_Angeles:20290829T100000
DTEND;TZID=America/Los_Angeles:20290829T110000
DTSTAMP:20260419T110206
CREATED:20241022T185402Z
LAST-MODIFIED:20241022T185402Z
UID:10010615-1882692000-1882695600@link.ucop.edu
SUMMARY:BRC T&E Team Office Hours
DESCRIPTION:Have a travel or travel reimbursement-related question? Join the Business Resource Center Travel and Entertainment team for weekly office hours. \nZoom link: https://UCOP.zoom.us/j/3301316753?pwd=STFNemVrbTJsV0tJZU1BNWZFL2VSUT09 
URL:https://link.ucop.edu/event/brc-te-team-office-hours-2/2029-08-29/
ORGANIZER;CN="Mark Lozano%2C Business Resource Center":MAILTO:Mark.Lozano@UCOP.EDU
END:VEVENT
BEGIN:VEVENT
DTSTART;TZID=America/Los_Angeles:20290905T100000
DTEND;TZID=America/Los_Angeles:20290905T110000
DTSTAMP:20260419T110206
CREATED:20241022T185402Z
LAST-MODIFIED:20241022T185402Z
UID:10010616-1883296800-1883300400@link.ucop.edu
SUMMARY:BRC T&E Team Office Hours
DESCRIPTION:Have a travel or travel reimbursement-related question? Join the Business Resource Center Travel and Entertainment team for weekly office hours. \nZoom link: https://UCOP.zoom.us/j/3301316753?pwd=STFNemVrbTJsV0tJZU1BNWZFL2VSUT09 
URL:https://link.ucop.edu/event/brc-te-team-office-hours-2/2029-09-05/
ORGANIZER;CN="Mark Lozano%2C Business Resource Center":MAILTO:Mark.Lozano@UCOP.EDU
END:VEVENT
BEGIN:VEVENT
DTSTART;TZID=America/Los_Angeles:20290912T100000
DTEND;TZID=America/Los_Angeles:20290912T110000
DTSTAMP:20260419T110206
CREATED:20241022T185402Z
LAST-MODIFIED:20241022T185402Z
UID:10010617-1883901600-1883905200@link.ucop.edu
SUMMARY:BRC T&E Team Office Hours
DESCRIPTION:Have a travel or travel reimbursement-related question? Join the Business Resource Center Travel and Entertainment team for weekly office hours. \nZoom link: https://UCOP.zoom.us/j/3301316753?pwd=STFNemVrbTJsV0tJZU1BNWZFL2VSUT09 
URL:https://link.ucop.edu/event/brc-te-team-office-hours-2/2029-09-12/
ORGANIZER;CN="Mark Lozano%2C Business Resource Center":MAILTO:Mark.Lozano@UCOP.EDU
END:VEVENT
BEGIN:VEVENT
DTSTART;TZID=America/Los_Angeles:20290919T100000
DTEND;TZID=America/Los_Angeles:20290919T110000
DTSTAMP:20260419T110206
CREATED:20241022T185402Z
LAST-MODIFIED:20241022T185402Z
UID:10010618-1884506400-1884510000@link.ucop.edu
SUMMARY:BRC T&E Team Office Hours
DESCRIPTION:Have a travel or travel reimbursement-related question? Join the Business Resource Center Travel and Entertainment team for weekly office hours. \nZoom link: https://UCOP.zoom.us/j/3301316753?pwd=STFNemVrbTJsV0tJZU1BNWZFL2VSUT09 
URL:https://link.ucop.edu/event/brc-te-team-office-hours-2/2029-09-19/
ORGANIZER;CN="Mark Lozano%2C Business Resource Center":MAILTO:Mark.Lozano@UCOP.EDU
END:VEVENT
BEGIN:VEVENT
DTSTART;TZID=America/Los_Angeles:20290926T100000
DTEND;TZID=America/Los_Angeles:20290926T110000
DTSTAMP:20260419T110206
CREATED:20241022T185402Z
LAST-MODIFIED:20241022T185402Z
UID:10010619-1885111200-1885114800@link.ucop.edu
SUMMARY:BRC T&E Team Office Hours
DESCRIPTION:Have a travel or travel reimbursement-related question? Join the Business Resource Center Travel and Entertainment team for weekly office hours. \nZoom link: https://UCOP.zoom.us/j/3301316753?pwd=STFNemVrbTJsV0tJZU1BNWZFL2VSUT09 
URL:https://link.ucop.edu/event/brc-te-team-office-hours-2/2029-09-26/
ORGANIZER;CN="Mark Lozano%2C Business Resource Center":MAILTO:Mark.Lozano@UCOP.EDU
END:VEVENT
BEGIN:VEVENT
DTSTART;TZID=America/Los_Angeles:20291003T100000
DTEND;TZID=America/Los_Angeles:20291003T110000
DTSTAMP:20260419T110206
CREATED:20241022T185402Z
LAST-MODIFIED:20241022T185402Z
UID:10010620-1885716000-1885719600@link.ucop.edu
SUMMARY:BRC T&E Team Office Hours
DESCRIPTION:Have a travel or travel reimbursement-related question? Join the Business Resource Center Travel and Entertainment team for weekly office hours. \nZoom link: https://UCOP.zoom.us/j/3301316753?pwd=STFNemVrbTJsV0tJZU1BNWZFL2VSUT09 
URL:https://link.ucop.edu/event/brc-te-team-office-hours-2/2029-10-03/
ORGANIZER;CN="Mark Lozano%2C Business Resource Center":MAILTO:Mark.Lozano@UCOP.EDU
END:VEVENT
BEGIN:VEVENT
DTSTART;TZID=America/Los_Angeles:20291010T100000
DTEND;TZID=America/Los_Angeles:20291010T110000
DTSTAMP:20260419T110206
CREATED:20241022T185402Z
LAST-MODIFIED:20241022T185402Z
UID:10010621-1886320800-1886324400@link.ucop.edu
SUMMARY:BRC T&E Team Office Hours
DESCRIPTION:Have a travel or travel reimbursement-related question? Join the Business Resource Center Travel and Entertainment team for weekly office hours. \nZoom link: https://UCOP.zoom.us/j/3301316753?pwd=STFNemVrbTJsV0tJZU1BNWZFL2VSUT09 
URL:https://link.ucop.edu/event/brc-te-team-office-hours-2/2029-10-10/
ORGANIZER;CN="Mark Lozano%2C Business Resource Center":MAILTO:Mark.Lozano@UCOP.EDU
END:VEVENT
BEGIN:VEVENT
DTSTART;TZID=America/Los_Angeles:20291017T100000
DTEND;TZID=America/Los_Angeles:20291017T110000
DTSTAMP:20260419T110206
CREATED:20241022T185402Z
LAST-MODIFIED:20241022T185402Z
UID:10010622-1886925600-1886929200@link.ucop.edu
SUMMARY:BRC T&E Team Office Hours
DESCRIPTION:Have a travel or travel reimbursement-related question? Join the Business Resource Center Travel and Entertainment team for weekly office hours. \nZoom link: https://UCOP.zoom.us/j/3301316753?pwd=STFNemVrbTJsV0tJZU1BNWZFL2VSUT09 
URL:https://link.ucop.edu/event/brc-te-team-office-hours-2/2029-10-17/
ORGANIZER;CN="Mark Lozano%2C Business Resource Center":MAILTO:Mark.Lozano@UCOP.EDU
END:VEVENT
BEGIN:VEVENT
DTSTART;TZID=America/Los_Angeles:20291024T100000
DTEND;TZID=America/Los_Angeles:20291024T110000
DTSTAMP:20260419T110206
CREATED:20241022T185402Z
LAST-MODIFIED:20241022T185402Z
UID:10011892-1887530400-1887534000@link.ucop.edu
SUMMARY:BRC T&E Team Office Hours
DESCRIPTION:Have a travel or travel reimbursement-related question? Join the Business Resource Center Travel and Entertainment team for weekly office hours. \nZoom link: https://UCOP.zoom.us/j/3301316753?pwd=STFNemVrbTJsV0tJZU1BNWZFL2VSUT09 
URL:https://link.ucop.edu/event/brc-te-team-office-hours-2/2029-10-24/
ORGANIZER;CN="Mark Lozano%2C Business Resource Center":MAILTO:Mark.Lozano@UCOP.EDU
END:VEVENT
BEGIN:VEVENT
DTSTART;TZID=America/Los_Angeles:20291031T100000
DTEND;TZID=America/Los_Angeles:20291031T110000
DTSTAMP:20260419T110206
CREATED:20241022T185402Z
LAST-MODIFIED:20241022T185402Z
UID:10011893-1888135200-1888138800@link.ucop.edu
SUMMARY:BRC T&E Team Office Hours
DESCRIPTION:Have a travel or travel reimbursement-related question? Join the Business Resource Center Travel and Entertainment team for weekly office hours. \nZoom link: https://UCOP.zoom.us/j/3301316753?pwd=STFNemVrbTJsV0tJZU1BNWZFL2VSUT09 
URL:https://link.ucop.edu/event/brc-te-team-office-hours-2/2029-10-31/
ORGANIZER;CN="Mark Lozano%2C Business Resource Center":MAILTO:Mark.Lozano@UCOP.EDU
END:VEVENT
BEGIN:VEVENT
DTSTART;TZID=America/Los_Angeles:20291107T100000
DTEND;TZID=America/Los_Angeles:20291107T110000
DTSTAMP:20260419T110206
CREATED:20241022T185402Z
LAST-MODIFIED:20241022T185402Z
UID:10011894-1888740000-1888743600@link.ucop.edu
SUMMARY:BRC T&E Team Office Hours
DESCRIPTION:Have a travel or travel reimbursement-related question? Join the Business Resource Center Travel and Entertainment team for weekly office hours. \nZoom link: https://UCOP.zoom.us/j/3301316753?pwd=STFNemVrbTJsV0tJZU1BNWZFL2VSUT09 
URL:https://link.ucop.edu/event/brc-te-team-office-hours-2/2029-11-07/
ORGANIZER;CN="Mark Lozano%2C Business Resource Center":MAILTO:Mark.Lozano@UCOP.EDU
END:VEVENT
BEGIN:VEVENT
DTSTART;TZID=America/Los_Angeles:20291114T100000
DTEND;TZID=America/Los_Angeles:20291114T110000
DTSTAMP:20260419T110206
CREATED:20241022T185402Z
LAST-MODIFIED:20241022T185402Z
UID:10011895-1889344800-1889348400@link.ucop.edu
SUMMARY:BRC T&E Team Office Hours
DESCRIPTION:Have a travel or travel reimbursement-related question? Join the Business Resource Center Travel and Entertainment team for weekly office hours. \nZoom link: https://UCOP.zoom.us/j/3301316753?pwd=STFNemVrbTJsV0tJZU1BNWZFL2VSUT09 
URL:https://link.ucop.edu/event/brc-te-team-office-hours-2/2029-11-14/
ORGANIZER;CN="Mark Lozano%2C Business Resource Center":MAILTO:Mark.Lozano@UCOP.EDU
END:VEVENT
BEGIN:VEVENT
DTSTART;TZID=America/Los_Angeles:20291121T100000
DTEND;TZID=America/Los_Angeles:20291121T110000
DTSTAMP:20260419T110206
CREATED:20241022T185402Z
LAST-MODIFIED:20241022T185402Z
UID:10011896-1889949600-1889953200@link.ucop.edu
SUMMARY:BRC T&E Team Office Hours
DESCRIPTION:Have a travel or travel reimbursement-related question? Join the Business Resource Center Travel and Entertainment team for weekly office hours. \nZoom link: https://UCOP.zoom.us/j/3301316753?pwd=STFNemVrbTJsV0tJZU1BNWZFL2VSUT09 
URL:https://link.ucop.edu/event/brc-te-team-office-hours-2/2029-11-21/
ORGANIZER;CN="Mark Lozano%2C Business Resource Center":MAILTO:Mark.Lozano@UCOP.EDU
END:VEVENT
BEGIN:VEVENT
DTSTART;TZID=America/Los_Angeles:20291128T100000
DTEND;TZID=America/Los_Angeles:20291128T110000
DTSTAMP:20260419T110206
CREATED:20241022T185402Z
LAST-MODIFIED:20241022T185402Z
UID:10011897-1890554400-1890558000@link.ucop.edu
SUMMARY:BRC T&E Team Office Hours
DESCRIPTION:Have a travel or travel reimbursement-related question? Join the Business Resource Center Travel and Entertainment team for weekly office hours. \nZoom link: https://UCOP.zoom.us/j/3301316753?pwd=STFNemVrbTJsV0tJZU1BNWZFL2VSUT09 
URL:https://link.ucop.edu/event/brc-te-team-office-hours-2/2029-11-28/
ORGANIZER;CN="Mark Lozano%2C Business Resource Center":MAILTO:Mark.Lozano@UCOP.EDU
END:VEVENT
BEGIN:VEVENT
DTSTART;TZID=America/Los_Angeles:20291205T100000
DTEND;TZID=America/Los_Angeles:20291205T110000
DTSTAMP:20260419T110206
CREATED:20241022T185402Z
LAST-MODIFIED:20241022T185402Z
UID:10011898-1891159200-1891162800@link.ucop.edu
SUMMARY:BRC T&E Team Office Hours
DESCRIPTION:Have a travel or travel reimbursement-related question? Join the Business Resource Center Travel and Entertainment team for weekly office hours. \nZoom link: https://UCOP.zoom.us/j/3301316753?pwd=STFNemVrbTJsV0tJZU1BNWZFL2VSUT09 
URL:https://link.ucop.edu/event/brc-te-team-office-hours-2/2029-12-05/
ORGANIZER;CN="Mark Lozano%2C Business Resource Center":MAILTO:Mark.Lozano@UCOP.EDU
END:VEVENT
BEGIN:VEVENT
DTSTART;TZID=America/Los_Angeles:20291212T100000
DTEND;TZID=America/Los_Angeles:20291212T110000
DTSTAMP:20260419T110206
CREATED:20241022T185402Z
LAST-MODIFIED:20241022T185402Z
UID:10011899-1891764000-1891767600@link.ucop.edu
SUMMARY:BRC T&E Team Office Hours
DESCRIPTION:Have a travel or travel reimbursement-related question? Join the Business Resource Center Travel and Entertainment team for weekly office hours. \nZoom link: https://UCOP.zoom.us/j/3301316753?pwd=STFNemVrbTJsV0tJZU1BNWZFL2VSUT09 
URL:https://link.ucop.edu/event/brc-te-team-office-hours-2/2029-12-12/
ORGANIZER;CN="Mark Lozano%2C Business Resource Center":MAILTO:Mark.Lozano@UCOP.EDU
END:VEVENT
END:VCALENDAR