BEGIN:VCALENDAR
VERSION:2.0
PRODID:-//Link: UCOP&#039;s e-newsletter - ECPv6.15.19//NONSGML v1.0//EN
CALSCALE:GREGORIAN
METHOD:PUBLISH
X-ORIGINAL-URL:https://link.ucop.edu
X-WR-CALDESC:Events for Link: UCOP&#039;s e-newsletter
REFRESH-INTERVAL;VALUE=DURATION:PT1H
X-Robots-Tag:noindex
X-PUBLISHED-TTL:PT1H
BEGIN:VTIMEZONE
TZID:America/Los_Angeles
BEGIN:STANDARD
TZOFFSETFROM:-0700
TZOFFSETTO:-0800
DTSTART:19701029T020000
RRULE:FREQ=YEARLY;BYMONTH=11;BYDAY=1SU
END:STANDARD
BEGIN:DAYLIGHT
DTSTART:19700402T020000
TZOFFSETFROM:-0800
TZOFFSETTO:-0700
RRULE:FREQ=YEARLY;BYMONTH=3;BYDAY=2SU
END:DAYLIGHT
END:VTIMEZONE
BEGIN:VTIMEZONE
TZID:America/Los_Angeles
BEGIN:DAYLIGHT
TZOFFSETFROM:-0800
TZOFFSETTO:-0700
TZNAME:PDT
DTSTART:20290311T100000
END:DAYLIGHT
BEGIN:STANDARD
TZOFFSETFROM:-0700
TZOFFSETTO:-0800
TZNAME:PST
DTSTART:20291104T090000
END:STANDARD
BEGIN:DAYLIGHT
TZOFFSETFROM:-0800
TZOFFSETTO:-0700
TZNAME:PDT
DTSTART:20300310T100000
END:DAYLIGHT
BEGIN:STANDARD
TZOFFSETFROM:-0700
TZOFFSETTO:-0800
TZNAME:PST
DTSTART:20301103T090000
END:STANDARD
BEGIN:DAYLIGHT
TZOFFSETFROM:-0800
TZOFFSETTO:-0700
TZNAME:PDT
DTSTART:20310309T100000
END:DAYLIGHT
BEGIN:STANDARD
TZOFFSETFROM:-0700
TZOFFSETTO:-0800
TZNAME:PST
DTSTART:20311102T090000
END:STANDARD
END:VTIMEZONE
BEGIN:VEVENT
DTSTART;TZID=America/Los_Angeles:20300814T100000
DTEND;TZID=America/Los_Angeles:20300814T110000
DTSTAMP:20260420T051849
CREATED:20241022T185402Z
LAST-MODIFIED:20241022T185402Z
UID:10013642-1912932000-1912935600@link.ucop.edu
SUMMARY:BRC T&E Team Office Hours
DESCRIPTION:Have a travel or travel reimbursement-related question? Join the Business Resource Center Travel and Entertainment team for weekly office hours. \nZoom link: https://UCOP.zoom.us/j/3301316753?pwd=STFNemVrbTJsV0tJZU1BNWZFL2VSUT09 
URL:https://link.ucop.edu/event/brc-te-team-office-hours-2/2030-08-14/
ORGANIZER;CN="Mark Lozano%2C Business Resource Center":MAILTO:Mark.Lozano@UCOP.EDU
END:VEVENT
BEGIN:VEVENT
DTSTART;TZID=America/Los_Angeles:20300821T100000
DTEND;TZID=America/Los_Angeles:20300821T110000
DTSTAMP:20260420T051849
CREATED:20241022T185402Z
LAST-MODIFIED:20241022T185402Z
UID:10013643-1913536800-1913540400@link.ucop.edu
SUMMARY:BRC T&E Team Office Hours
DESCRIPTION:Have a travel or travel reimbursement-related question? Join the Business Resource Center Travel and Entertainment team for weekly office hours. \nZoom link: https://UCOP.zoom.us/j/3301316753?pwd=STFNemVrbTJsV0tJZU1BNWZFL2VSUT09 
URL:https://link.ucop.edu/event/brc-te-team-office-hours-2/2030-08-21/
ORGANIZER;CN="Mark Lozano%2C Business Resource Center":MAILTO:Mark.Lozano@UCOP.EDU
END:VEVENT
BEGIN:VEVENT
DTSTART;TZID=America/Los_Angeles:20300828T100000
DTEND;TZID=America/Los_Angeles:20300828T110000
DTSTAMP:20260420T051849
CREATED:20241022T185402Z
LAST-MODIFIED:20241022T185402Z
UID:10013644-1914141600-1914145200@link.ucop.edu
SUMMARY:BRC T&E Team Office Hours
DESCRIPTION:Have a travel or travel reimbursement-related question? Join the Business Resource Center Travel and Entertainment team for weekly office hours. \nZoom link: https://UCOP.zoom.us/j/3301316753?pwd=STFNemVrbTJsV0tJZU1BNWZFL2VSUT09 
URL:https://link.ucop.edu/event/brc-te-team-office-hours-2/2030-08-28/
ORGANIZER;CN="Mark Lozano%2C Business Resource Center":MAILTO:Mark.Lozano@UCOP.EDU
END:VEVENT
BEGIN:VEVENT
DTSTART;TZID=America/Los_Angeles:20300904T100000
DTEND;TZID=America/Los_Angeles:20300904T110000
DTSTAMP:20260420T051849
CREATED:20241022T185402Z
LAST-MODIFIED:20241022T185402Z
UID:10013645-1914746400-1914750000@link.ucop.edu
SUMMARY:BRC T&E Team Office Hours
DESCRIPTION:Have a travel or travel reimbursement-related question? Join the Business Resource Center Travel and Entertainment team for weekly office hours. \nZoom link: https://UCOP.zoom.us/j/3301316753?pwd=STFNemVrbTJsV0tJZU1BNWZFL2VSUT09 
URL:https://link.ucop.edu/event/brc-te-team-office-hours-2/2030-09-04/
ORGANIZER;CN="Mark Lozano%2C Business Resource Center":MAILTO:Mark.Lozano@UCOP.EDU
END:VEVENT
BEGIN:VEVENT
DTSTART;TZID=America/Los_Angeles:20300911T100000
DTEND;TZID=America/Los_Angeles:20300911T110000
DTSTAMP:20260420T051849
CREATED:20241022T185402Z
LAST-MODIFIED:20241022T185402Z
UID:10013646-1915351200-1915354800@link.ucop.edu
SUMMARY:BRC T&E Team Office Hours
DESCRIPTION:Have a travel or travel reimbursement-related question? Join the Business Resource Center Travel and Entertainment team for weekly office hours. \nZoom link: https://UCOP.zoom.us/j/3301316753?pwd=STFNemVrbTJsV0tJZU1BNWZFL2VSUT09 
URL:https://link.ucop.edu/event/brc-te-team-office-hours-2/2030-09-11/
ORGANIZER;CN="Mark Lozano%2C Business Resource Center":MAILTO:Mark.Lozano@UCOP.EDU
END:VEVENT
BEGIN:VEVENT
DTSTART;TZID=America/Los_Angeles:20300918T100000
DTEND;TZID=America/Los_Angeles:20300918T110000
DTSTAMP:20260420T051849
CREATED:20241022T185402Z
LAST-MODIFIED:20241022T185402Z
UID:10013647-1915956000-1915959600@link.ucop.edu
SUMMARY:BRC T&E Team Office Hours
DESCRIPTION:Have a travel or travel reimbursement-related question? Join the Business Resource Center Travel and Entertainment team for weekly office hours. \nZoom link: https://UCOP.zoom.us/j/3301316753?pwd=STFNemVrbTJsV0tJZU1BNWZFL2VSUT09 
URL:https://link.ucop.edu/event/brc-te-team-office-hours-2/2030-09-18/
ORGANIZER;CN="Mark Lozano%2C Business Resource Center":MAILTO:Mark.Lozano@UCOP.EDU
END:VEVENT
BEGIN:VEVENT
DTSTART;TZID=America/Los_Angeles:20300925T100000
DTEND;TZID=America/Los_Angeles:20300925T110000
DTSTAMP:20260420T051849
CREATED:20241022T185402Z
LAST-MODIFIED:20241022T185402Z
UID:10013648-1916560800-1916564400@link.ucop.edu
SUMMARY:BRC T&E Team Office Hours
DESCRIPTION:Have a travel or travel reimbursement-related question? Join the Business Resource Center Travel and Entertainment team for weekly office hours. \nZoom link: https://UCOP.zoom.us/j/3301316753?pwd=STFNemVrbTJsV0tJZU1BNWZFL2VSUT09 
URL:https://link.ucop.edu/event/brc-te-team-office-hours-2/2030-09-25/
ORGANIZER;CN="Mark Lozano%2C Business Resource Center":MAILTO:Mark.Lozano@UCOP.EDU
END:VEVENT
BEGIN:VEVENT
DTSTART;TZID=America/Los_Angeles:20301002T100000
DTEND;TZID=America/Los_Angeles:20301002T110000
DTSTAMP:20260420T051849
CREATED:20241022T185402Z
LAST-MODIFIED:20241022T185402Z
UID:10013649-1917165600-1917169200@link.ucop.edu
SUMMARY:BRC T&E Team Office Hours
DESCRIPTION:Have a travel or travel reimbursement-related question? Join the Business Resource Center Travel and Entertainment team for weekly office hours. \nZoom link: https://UCOP.zoom.us/j/3301316753?pwd=STFNemVrbTJsV0tJZU1BNWZFL2VSUT09 
URL:https://link.ucop.edu/event/brc-te-team-office-hours-2/2030-10-02/
ORGANIZER;CN="Mark Lozano%2C Business Resource Center":MAILTO:Mark.Lozano@UCOP.EDU
END:VEVENT
BEGIN:VEVENT
DTSTART;TZID=America/Los_Angeles:20301009T100000
DTEND;TZID=America/Los_Angeles:20301009T110000
DTSTAMP:20260420T051849
CREATED:20241022T185402Z
LAST-MODIFIED:20241022T185402Z
UID:10013650-1917770400-1917774000@link.ucop.edu
SUMMARY:BRC T&E Team Office Hours
DESCRIPTION:Have a travel or travel reimbursement-related question? Join the Business Resource Center Travel and Entertainment team for weekly office hours. \nZoom link: https://UCOP.zoom.us/j/3301316753?pwd=STFNemVrbTJsV0tJZU1BNWZFL2VSUT09 
URL:https://link.ucop.edu/event/brc-te-team-office-hours-2/2030-10-09/
ORGANIZER;CN="Mark Lozano%2C Business Resource Center":MAILTO:Mark.Lozano@UCOP.EDU
END:VEVENT
BEGIN:VEVENT
DTSTART;TZID=America/Los_Angeles:20301016T100000
DTEND;TZID=America/Los_Angeles:20301016T110000
DTSTAMP:20260420T051849
CREATED:20241022T185402Z
LAST-MODIFIED:20241022T185402Z
UID:10013651-1918375200-1918378800@link.ucop.edu
SUMMARY:BRC T&E Team Office Hours
DESCRIPTION:Have a travel or travel reimbursement-related question? Join the Business Resource Center Travel and Entertainment team for weekly office hours. \nZoom link: https://UCOP.zoom.us/j/3301316753?pwd=STFNemVrbTJsV0tJZU1BNWZFL2VSUT09 
URL:https://link.ucop.edu/event/brc-te-team-office-hours-2/2030-10-16/
ORGANIZER;CN="Mark Lozano%2C Business Resource Center":MAILTO:Mark.Lozano@UCOP.EDU
END:VEVENT
BEGIN:VEVENT
DTSTART;TZID=America/Los_Angeles:20301023T100000
DTEND;TZID=America/Los_Angeles:20301023T110000
DTSTAMP:20260420T051849
CREATED:20241022T185402Z
LAST-MODIFIED:20241022T185402Z
UID:10013652-1918980000-1918983600@link.ucop.edu
SUMMARY:BRC T&E Team Office Hours
DESCRIPTION:Have a travel or travel reimbursement-related question? Join the Business Resource Center Travel and Entertainment team for weekly office hours. \nZoom link: https://UCOP.zoom.us/j/3301316753?pwd=STFNemVrbTJsV0tJZU1BNWZFL2VSUT09 
URL:https://link.ucop.edu/event/brc-te-team-office-hours-2/2030-10-23/
ORGANIZER;CN="Mark Lozano%2C Business Resource Center":MAILTO:Mark.Lozano@UCOP.EDU
END:VEVENT
BEGIN:VEVENT
DTSTART;TZID=America/Los_Angeles:20301030T100000
DTEND;TZID=America/Los_Angeles:20301030T110000
DTSTAMP:20260420T051849
CREATED:20241022T185402Z
LAST-MODIFIED:20241022T185402Z
UID:10013653-1919584800-1919588400@link.ucop.edu
SUMMARY:BRC T&E Team Office Hours
DESCRIPTION:Have a travel or travel reimbursement-related question? Join the Business Resource Center Travel and Entertainment team for weekly office hours. \nZoom link: https://UCOP.zoom.us/j/3301316753?pwd=STFNemVrbTJsV0tJZU1BNWZFL2VSUT09 
URL:https://link.ucop.edu/event/brc-te-team-office-hours-2/2030-10-30/
ORGANIZER;CN="Mark Lozano%2C Business Resource Center":MAILTO:Mark.Lozano@UCOP.EDU
END:VEVENT
BEGIN:VEVENT
DTSTART;TZID=America/Los_Angeles:20301106T100000
DTEND;TZID=America/Los_Angeles:20301106T110000
DTSTAMP:20260420T051849
CREATED:20241022T185402Z
LAST-MODIFIED:20241022T185402Z
UID:10013654-1920189600-1920193200@link.ucop.edu
SUMMARY:BRC T&E Team Office Hours
DESCRIPTION:Have a travel or travel reimbursement-related question? Join the Business Resource Center Travel and Entertainment team for weekly office hours. \nZoom link: https://UCOP.zoom.us/j/3301316753?pwd=STFNemVrbTJsV0tJZU1BNWZFL2VSUT09 
URL:https://link.ucop.edu/event/brc-te-team-office-hours-2/2030-11-06/
ORGANIZER;CN="Mark Lozano%2C Business Resource Center":MAILTO:Mark.Lozano@UCOP.EDU
END:VEVENT
BEGIN:VEVENT
DTSTART;TZID=America/Los_Angeles:20301113T100000
DTEND;TZID=America/Los_Angeles:20301113T110000
DTSTAMP:20260420T051849
CREATED:20241022T185402Z
LAST-MODIFIED:20241022T185402Z
UID:10013655-1920794400-1920798000@link.ucop.edu
SUMMARY:BRC T&E Team Office Hours
DESCRIPTION:Have a travel or travel reimbursement-related question? Join the Business Resource Center Travel and Entertainment team for weekly office hours. \nZoom link: https://UCOP.zoom.us/j/3301316753?pwd=STFNemVrbTJsV0tJZU1BNWZFL2VSUT09 
URL:https://link.ucop.edu/event/brc-te-team-office-hours-2/2030-11-13/
ORGANIZER;CN="Mark Lozano%2C Business Resource Center":MAILTO:Mark.Lozano@UCOP.EDU
END:VEVENT
BEGIN:VEVENT
DTSTART;TZID=America/Los_Angeles:20301120T100000
DTEND;TZID=America/Los_Angeles:20301120T110000
DTSTAMP:20260420T051849
CREATED:20241022T185402Z
LAST-MODIFIED:20241022T185402Z
UID:10013656-1921399200-1921402800@link.ucop.edu
SUMMARY:BRC T&E Team Office Hours
DESCRIPTION:Have a travel or travel reimbursement-related question? Join the Business Resource Center Travel and Entertainment team for weekly office hours. \nZoom link: https://UCOP.zoom.us/j/3301316753?pwd=STFNemVrbTJsV0tJZU1BNWZFL2VSUT09 
URL:https://link.ucop.edu/event/brc-te-team-office-hours-2/2030-11-20/
ORGANIZER;CN="Mark Lozano%2C Business Resource Center":MAILTO:Mark.Lozano@UCOP.EDU
END:VEVENT
END:VCALENDAR