BEGIN:VCALENDAR
VERSION:2.0
PRODID:-//Link: UCOP&#039;s e-newsletter - ECPv6.15.19//NONSGML v1.0//EN
CALSCALE:GREGORIAN
METHOD:PUBLISH
X-ORIGINAL-URL:https://link.ucop.edu
X-WR-CALDESC:Events for Link: UCOP&#039;s e-newsletter
REFRESH-INTERVAL;VALUE=DURATION:PT1H
X-Robots-Tag:noindex
X-PUBLISHED-TTL:PT1H
BEGIN:VTIMEZONE
TZID:America/Los_Angeles
BEGIN:STANDARD
TZOFFSETFROM:-0700
TZOFFSETTO:-0800
DTSTART:19701029T020000
RRULE:FREQ=YEARLY;BYMONTH=11;BYDAY=1SU
END:STANDARD
BEGIN:DAYLIGHT
DTSTART:19700402T020000
TZOFFSETFROM:-0800
TZOFFSETTO:-0700
RRULE:FREQ=YEARLY;BYMONTH=3;BYDAY=2SU
END:DAYLIGHT
END:VTIMEZONE
BEGIN:VTIMEZONE
TZID:America/Los_Angeles
BEGIN:DAYLIGHT
TZOFFSETFROM:-0800
TZOFFSETTO:-0700
TZNAME:PDT
DTSTART:20230312T100000
END:DAYLIGHT
BEGIN:STANDARD
TZOFFSETFROM:-0700
TZOFFSETTO:-0800
TZNAME:PST
DTSTART:20231105T090000
END:STANDARD
BEGIN:DAYLIGHT
TZOFFSETFROM:-0800
TZOFFSETTO:-0700
TZNAME:PDT
DTSTART:20240310T100000
END:DAYLIGHT
BEGIN:STANDARD
TZOFFSETFROM:-0700
TZOFFSETTO:-0800
TZNAME:PST
DTSTART:20241103T090000
END:STANDARD
BEGIN:DAYLIGHT
TZOFFSETFROM:-0800
TZOFFSETTO:-0700
TZNAME:PDT
DTSTART:20250309T100000
END:DAYLIGHT
BEGIN:STANDARD
TZOFFSETFROM:-0700
TZOFFSETTO:-0800
TZNAME:PST
DTSTART:20251102T090000
END:STANDARD
END:VTIMEZONE
BEGIN:VEVENT
DTSTART;TZID=America/Los_Angeles:20241022T100000
DTEND;TZID=America/Los_Angeles:20241022T103000
DTSTAMP:20260416T152250
CREATED:20241022T133046Z
LAST-MODIFIED:20241022T133046Z
UID:10010362-1729591200-1729593000@link.ucop.edu
SUMMARY:Travel Talk Tuesday: Airfare Comparison Quotes
DESCRIPTION:If you’re interested in learning all about airfare comparison quotes\, please join the BRC for the next “Travel Talk Tuesday” on how to create an airfare comparison quote to capture the business travel dates of the trip\, including departing/returning from a UCOP employee’s Primary Headquarter Location’s (PHL) closest airport. \nThe clinic will include a brief presentation followed by a live demonstration showing how to create an airfare comparison quote. We will focus on what specific information should be captured within the quote\, when it is required\, and where to provide it in a Pre-Travel Request and Expense Report in Concur. \nZoom Link: https://UCOP.zoom.us/j/3301316753?pwd=STFNemVrbTJsV0tJZU1BNWZFL2VSUT09
URL:https://link.ucop.edu/event/travel-talk-tuesday-airfare-comparison-quotes/
END:VEVENT
END:VCALENDAR