BEGIN:VCALENDAR
VERSION:2.0
PRODID:-//Link: UCOP&#039;s e-newsletter - ECPv6.15.19//NONSGML v1.0//EN
CALSCALE:GREGORIAN
METHOD:PUBLISH
X-ORIGINAL-URL:https://link.ucop.edu
X-WR-CALDESC:Events for Link: UCOP&#039;s e-newsletter
REFRESH-INTERVAL;VALUE=DURATION:PT1H
X-Robots-Tag:noindex
X-PUBLISHED-TTL:PT1H
BEGIN:VTIMEZONE
TZID:America/Los_Angeles
BEGIN:STANDARD
TZOFFSETFROM:-0700
TZOFFSETTO:-0800
DTSTART:19701029T020000
RRULE:FREQ=YEARLY;BYMONTH=11;BYDAY=1SU
END:STANDARD
BEGIN:DAYLIGHT
DTSTART:19700402T020000
TZOFFSETFROM:-0800
TZOFFSETTO:-0700
RRULE:FREQ=YEARLY;BYMONTH=3;BYDAY=2SU
END:DAYLIGHT
END:VTIMEZONE
BEGIN:VTIMEZONE
TZID:America/Los_Angeles
BEGIN:DAYLIGHT
TZOFFSETFROM:-0800
TZOFFSETTO:-0700
TZNAME:PDT
DTSTART:20220313T100000
END:DAYLIGHT
BEGIN:STANDARD
TZOFFSETFROM:-0700
TZOFFSETTO:-0800
TZNAME:PST
DTSTART:20221106T090000
END:STANDARD
BEGIN:DAYLIGHT
TZOFFSETFROM:-0800
TZOFFSETTO:-0700
TZNAME:PDT
DTSTART:20230312T100000
END:DAYLIGHT
BEGIN:STANDARD
TZOFFSETFROM:-0700
TZOFFSETTO:-0800
TZNAME:PST
DTSTART:20231105T090000
END:STANDARD
BEGIN:DAYLIGHT
TZOFFSETFROM:-0800
TZOFFSETTO:-0700
TZNAME:PDT
DTSTART:20240310T100000
END:DAYLIGHT
BEGIN:STANDARD
TZOFFSETFROM:-0700
TZOFFSETTO:-0800
TZNAME:PST
DTSTART:20241103T090000
END:STANDARD
BEGIN:DAYLIGHT
TZOFFSETFROM:-0800
TZOFFSETTO:-0700
TZNAME:PDT
DTSTART:20250309T100000
END:DAYLIGHT
BEGIN:STANDARD
TZOFFSETFROM:-0700
TZOFFSETTO:-0800
TZNAME:PST
DTSTART:20251102T090000
END:STANDARD
BEGIN:DAYLIGHT
TZOFFSETFROM:-0800
TZOFFSETTO:-0700
TZNAME:PDT
DTSTART:20260308T100000
END:DAYLIGHT
BEGIN:STANDARD
TZOFFSETFROM:-0700
TZOFFSETTO:-0800
TZNAME:PST
DTSTART:20261101T090000
END:STANDARD
END:VTIMEZONE
BEGIN:VEVENT
DTSTART;TZID=America/Los_Angeles:20251203T143000
DTEND;TZID=America/Los_Angeles:20251203T160000
DTSTAMP:20260423T023017
CREATED:20251110T173122Z
LAST-MODIFIED:20251110T173122Z
UID:10013483-1764772200-1764777600@link.ucop.edu
SUMMARY:2025 Oakland UCOP celebration
DESCRIPTION:All UCOP staff in the Oakland area are invited to an afternoon of entertainment\, food and festive beverages.
URL:https://link.ucop.edu/event/2025-oakland-ucop-celebration/
LOCATION:Broadway Conference Center
END:VEVENT
BEGIN:VEVENT
DTSTART;TZID=America/Los_Angeles:20251029T100000
DTEND;TZID=America/Los_Angeles:20251029T130000
DTSTAMP:20260423T023017
CREATED:20251013T180024Z
LAST-MODIFIED:20251013T180024Z
UID:10013349-1761732000-1761742800@link.ucop.edu
SUMMARY:Open Enrollment Kick-Off Fair
DESCRIPTION:
URL:https://link.ucop.edu/event/open-enrollment-kick-off-fair/
LOCATION:Broadway Conference Center
ORGANIZER;CN="Sharon Adesokan":MAILTO:UCOPHCF-L@LISTSERV.UCOP.EDU
END:VEVENT
BEGIN:VEVENT
DTSTART;TZID=America/Los_Angeles:20250930T130000
DTEND;TZID=America/Los_Angeles:20250930T150000
DTSTAMP:20260423T023017
CREATED:20250915T194733Z
LAST-MODIFIED:20250916T183643Z
UID:10013306-1759237200-1759244400@link.ucop.edu
SUMMARY:Pilipinx American History Month Kick-Off Celebration
DESCRIPTION:Celebrate the beginning of Pilipinx American History Month with APISA! Enjoy delicious samples of traditional cuisine and Magnolia Ice Cream from Ramar Foods\, connect with inspiring student keynote speakers\, and discover the dynamic Pilipinx student organizations making an impact on the UC Berkeley campus!
URL:https://link.ucop.edu/event/pilipinx-american-history-month-kick-off-celebration/
LOCATION:Broadway Conference Center
END:VEVENT
BEGIN:VEVENT
DTSTART;TZID=America/Los_Angeles:20250325T113000
DTEND;TZID=America/Los_Angeles:20250325T133000
DTSTAMP:20260423T023017
CREATED:20250324T154423Z
LAST-MODIFIED:20250324T154439Z
UID:10011945-1742902200-1742909400@link.ucop.edu
SUMMARY:PACSW Women’s History Social (Oakland)
DESCRIPTION:Join colleagues in connecting\, engaging and celebrating Women’s History Month with PACSW on Tuesday\, March 25\, from 11:30 a.m. – 1:30 p.m. During this special social gathering in the Broadway Conference Center in Oakland\, you’ll have an opportunity to meet colleagues\, build networks and continue the conversation on advancing gender equity in the workplace.  Contact marisa.strong@ucop.edu for more information.
URL:https://link.ucop.edu/event/pacsw-womens-history-social/
LOCATION:Broadway Conference Center
END:VEVENT
BEGIN:VEVENT
DTSTART;TZID=America/Los_Angeles:20241211T143000
DTEND;TZID=America/Los_Angeles:20241211T160000
DTSTAMP:20260423T023017
CREATED:20241203T180843Z
LAST-MODIFIED:20241203T180843Z
UID:10010968-1733927400-1733932800@link.ucop.edu
SUMMARY:Oakland End-of-Year Celebration
DESCRIPTION:All Oakland-based staff are invited to our annual wintertime celebration. Mingle with colleagues and UCOP senior leadership as you enjoy festive fare! The UC Men’s Octet — UC Berkeley’s premier men’s acapella group — will treat us to a special live performance.
URL:https://link.ucop.edu/event/oakland-end-of-year-celebration/
LOCATION:Broadway Conference Center
END:VEVENT
BEGIN:VEVENT
DTSTART;TZID=America/Los_Angeles:20240813T090000
DTEND;TZID=America/Los_Angeles:20240813T120000
DTSTAMP:20260423T023017
CREATED:20231114T194914Z
LAST-MODIFIED:20240202T174229Z
UID:10009942-1723539600-1723550400@link.ucop.edu
SUMMARY:New Employee Orientation
DESCRIPTION:Starting a new job or new location can be daunting. The UCOP New Employee Orientation is designed to facilitate a smooth transition to the organization and is offered in person every month at the UCOP Broadway building in Oakland. Topics include: • University of California and our history • Overview of UCOP and the organization • Tools and Resources • Safety • Compliance \nRegister for New Employee Orientation \nPlease note:  For information about orientations to UCOP benefits or UCOP IT tools\, visit the UCOP Life webpage: https://www.ucop.edu/local-human-resources//op-life/new-employee-orientation.html
URL:https://link.ucop.edu/event/new-employee-orientation-39/2024-08-13/
LOCATION:Broadway Conference Center
END:VEVENT
BEGIN:VEVENT
DTSTART;TZID=America/Los_Angeles:20240514T090000
DTEND;TZID=America/Los_Angeles:20240514T120000
DTSTAMP:20260423T023017
CREATED:20231114T194914Z
LAST-MODIFIED:20240202T174229Z
UID:10009941-1715677200-1715688000@link.ucop.edu
SUMMARY:New Employee Orientation
DESCRIPTION:Starting a new job or new location can be daunting. The UCOP New Employee Orientation is designed to facilitate a smooth transition to the organization and is offered in person every month at the UCOP Broadway building in Oakland. Topics include: • University of California and our history • Overview of UCOP and the organization • Tools and Resources • Safety • Compliance \nRegister for New Employee Orientation \nPlease note:  For information about orientations to UCOP benefits or UCOP IT tools\, visit the UCOP Life webpage: https://www.ucop.edu/local-human-resources//op-life/new-employee-orientation.html
URL:https://link.ucop.edu/event/new-employee-orientation-39/2024-05-14/
LOCATION:Broadway Conference Center
END:VEVENT
BEGIN:VEVENT
DTSTART;TZID=America/Los_Angeles:20240312T090000
DTEND;TZID=America/Los_Angeles:20240312T120000
DTSTAMP:20260423T023017
CREATED:20231114T194914Z
LAST-MODIFIED:20240202T174229Z
UID:10009940-1710234000-1710244800@link.ucop.edu
SUMMARY:New Employee Orientation
DESCRIPTION:Starting a new job or new location can be daunting. The UCOP New Employee Orientation is designed to facilitate a smooth transition to the organization and is offered in person every month at the UCOP Broadway building in Oakland. Topics include: • University of California and our history • Overview of UCOP and the organization • Tools and Resources • Safety • Compliance \nRegister for New Employee Orientation \nPlease note:  For information about orientations to UCOP benefits or UCOP IT tools\, visit the UCOP Life webpage: https://www.ucop.edu/local-human-resources//op-life/new-employee-orientation.html
URL:https://link.ucop.edu/event/new-employee-orientation-39/2024-03-12/
LOCATION:Broadway Conference Center
END:VEVENT
BEGIN:VEVENT
DTSTART;TZID=America/Los_Angeles:20240213T090000
DTEND;TZID=America/Los_Angeles:20240213T120000
DTSTAMP:20260423T023017
CREATED:20231114T194914Z
LAST-MODIFIED:20240202T174229Z
UID:10009939-1707814800-1707825600@link.ucop.edu
SUMMARY:New Employee Orientation
DESCRIPTION:Starting a new job or new location can be daunting. The UCOP New Employee Orientation is designed to facilitate a smooth transition to the organization and is offered in person every month at the UCOP Broadway building in Oakland. Topics include: • University of California and our history • Overview of UCOP and the organization • Tools and Resources • Safety • Compliance \nRegister for New Employee Orientation \nPlease note:  For information about orientations to UCOP benefits or UCOP IT tools\, visit the UCOP Life webpage: https://www.ucop.edu/local-human-resources//op-life/new-employee-orientation.html
URL:https://link.ucop.edu/event/new-employee-orientation-39/2024-02-13/
LOCATION:Broadway Conference Center
END:VEVENT
BEGIN:VEVENT
DTSTART;TZID=America/Los_Angeles:20230426T083000
DTEND;TZID=America/Los_Angeles:20230426T094500
DTSTAMP:20260423T023017
CREATED:20230417T163018Z
LAST-MODIFIED:20230417T163018Z
UID:10009701-1682497800-1682502300@link.ucop.edu
SUMMARY:FOW Breakfast Reception
DESCRIPTION:Join UCOP senior leaders and your colleagues for our second light breakfast networking event. Breakfast items will be packaged in a way so there are no shared serving utensils and so they can be enjoyed while networking with your peers. Hand sanitizers and sanitation supplies will be available.
URL:https://link.ucop.edu/event/fow-breakfast-reception/
LOCATION:Broadway Conference Center
END:VEVENT
END:VCALENDAR