BEGIN:VCALENDAR
VERSION:2.0
PRODID:-//Link: UCOP&#039;s e-newsletter - ECPv6.15.19//NONSGML v1.0//EN
CALSCALE:GREGORIAN
METHOD:PUBLISH
X-ORIGINAL-URL:https://link.ucop.edu
X-WR-CALDESC:Events for Link: UCOP&#039;s e-newsletter
REFRESH-INTERVAL;VALUE=DURATION:PT1H
X-Robots-Tag:noindex
X-PUBLISHED-TTL:PT1H
BEGIN:VTIMEZONE
TZID:America/Los_Angeles
BEGIN:STANDARD
TZOFFSETFROM:-0700
TZOFFSETTO:-0800
DTSTART:19701029T020000
RRULE:FREQ=YEARLY;BYMONTH=11;BYDAY=1SU
END:STANDARD
BEGIN:DAYLIGHT
DTSTART:19700402T020000
TZOFFSETFROM:-0800
TZOFFSETTO:-0700
RRULE:FREQ=YEARLY;BYMONTH=3;BYDAY=2SU
END:DAYLIGHT
END:VTIMEZONE
BEGIN:VTIMEZONE
TZID:America/Los_Angeles
BEGIN:DAYLIGHT
TZOFFSETFROM:-0800
TZOFFSETTO:-0700
TZNAME:PDT
DTSTART:20170312T100000
END:DAYLIGHT
BEGIN:STANDARD
TZOFFSETFROM:-0700
TZOFFSETTO:-0800
TZNAME:PST
DTSTART:20171105T090000
END:STANDARD
BEGIN:DAYLIGHT
TZOFFSETFROM:-0800
TZOFFSETTO:-0700
TZNAME:PDT
DTSTART:20180311T100000
END:DAYLIGHT
BEGIN:STANDARD
TZOFFSETFROM:-0700
TZOFFSETTO:-0800
TZNAME:PST
DTSTART:20181104T090000
END:STANDARD
BEGIN:DAYLIGHT
TZOFFSETFROM:-0800
TZOFFSETTO:-0700
TZNAME:PDT
DTSTART:20190310T100000
END:DAYLIGHT
BEGIN:STANDARD
TZOFFSETFROM:-0700
TZOFFSETTO:-0800
TZNAME:PST
DTSTART:20191103T090000
END:STANDARD
BEGIN:DAYLIGHT
TZOFFSETFROM:-0800
TZOFFSETTO:-0700
TZNAME:PDT
DTSTART:20200308T100000
END:DAYLIGHT
BEGIN:STANDARD
TZOFFSETFROM:-0700
TZOFFSETTO:-0800
TZNAME:PST
DTSTART:20201101T090000
END:STANDARD
END:VTIMEZONE
BEGIN:VEVENT
DTSTART;TZID=America/Los_Angeles:20190614T140000
DTEND;TZID=America/Los_Angeles:20190614T170000
DTSTAMP:20260420T211203
CREATED:20190522T193849Z
LAST-MODIFIED:20190522T220607Z
UID:10007320-1560520800-1560531600@link.ucop.edu
SUMMARY:UCOP Pride Ice Cream Social
DESCRIPTION:Celebrate LGBTQ+ Pride\, and the 50th anniversary of the Stonewall uprising\, on Friday\, June 14th 2019 from 2-5pm on Franklin 5th floor rooftop garden. All UCOP staff are invited to enjoy ice cream sundaes\, gay dance anthems and copious amounts of rainbow flags.
URL:https://link.ucop.edu/event/ucop-pride-ice-cream-social-2/
LOCATION:Franklin 5th floor roof garden
CATEGORIES:Employee Resource + Affinity Groups
END:VEVENT
BEGIN:VEVENT
DTSTART;TZID=America/Los_Angeles:20181031T120000
DTEND;TZID=America/Los_Angeles:20181031T133000
DTSTAMP:20260420T211203
CREATED:20180921T224536Z
LAST-MODIFIED:20181022T202847Z
UID:10007018-1540987200-1540992600@link.ucop.edu
SUMMARY:OPSA Halloween Potluck and Costume Party
DESCRIPTION:Bring a potluck dish to share (beverages provided) and compete in the costume contest for prizes. Email OPStaffAssembly@ucop.edu if you have questions about this event.
URL:https://link.ucop.edu/event/opsa-halloween-party-and-costume-showcase/
LOCATION:Franklin 5th floor roof garden
CATEGORIES:Special event
ORGANIZER;CN="OP Staff Assembly":MAILTO:OPStaffAssembly@ucop.edu
END:VEVENT
BEGIN:VEVENT
DTSTART;TZID=America/Los_Angeles:20181012T080000
DTEND;TZID=America/Los_Angeles:20181012T100000
DTSTAMP:20260420T211203
CREATED:20181004T214602Z
LAST-MODIFIED:20181008T215727Z
UID:10007023-1539331200-1539338400@link.ucop.edu
SUMMARY:Breakfast on the 5th floor patio
DESCRIPTION:Ellis Partners\, the developers of the new 1100 Broadway building\, will provide breakfast for UCOP staff on the Franklin 5th floor patio. Coffee\, tea\, bagels\, yogurt parfait and pastries will be served.
URL:https://link.ucop.edu/event/breakfast-on-the-roof-terrace/
LOCATION:Franklin 5th floor roof garden
CATEGORIES:Breakfast
END:VEVENT
BEGIN:VEVENT
DTSTART;TZID=America/Los_Angeles:20180927T163000
DTEND;TZID=America/Los_Angeles:20180927T180000
DTSTAMP:20260420T211203
CREATED:20180921T223117Z
LAST-MODIFIED:20180921T223117Z
UID:10007014-1538065800-1538071200@link.ucop.edu
SUMMARY:OPSA Social Happy Hour
DESCRIPTION:Join OPSA Social for a happy hour featuring the “IT Iron Chefs” Appetizer Cook-Off!
URL:https://link.ucop.edu/event/opsa-social-happy-hour/
LOCATION:Franklin 5th floor roof garden
ORGANIZER;CN="OP Staff Assembly":MAILTO:OPStaffAssembly@ucop.edu
END:VEVENT
BEGIN:VEVENT
DTSTART;TZID=America/Los_Angeles:20180810T163000
DTEND;TZID=America/Los_Angeles:20180810T180000
DTSTAMP:20260420T211203
CREATED:20180806T175152Z
LAST-MODIFIED:20180806T175152Z
UID:10006539-1533918600-1533924000@link.ucop.edu
SUMMARY:OPSA Social pop-up happy hour at the Franklin rooftop garden
DESCRIPTION:Office of the President Staff Assembly (OPSA) is excited to present the second in a series of monthly OPSA Social events — happy hour at the Franklin rooftop garden. Admire the mixed-use flower and vegetable garden cultivated by UC Us Grow\, and enjoy happy hour refreshments and comestibles. If you like\, you’re welcome to pull some weeds and get your hands dirty! \nAttendees at August’s OPSA Social event will receive a free raffle ticket for a prize drawing featuring a gift from the Berkeley Art Museum store. Don’t miss it! \nQuestions about this event? Please contact matthew.leet@ucop.edu
URL:https://link.ucop.edu/event/opsa-social-pop-up-happy-hour-at-the-franklin-rooftop-garden/
LOCATION:Franklin 5th floor roof garden
CATEGORIES:Employee Resource + Affinity Groups,Special event
ORGANIZER;CN="OP Staff Assembly":MAILTO:OPStaffAssembly@ucop.edu
END:VEVENT
END:VCALENDAR