BEGIN:VCALENDAR
VERSION:2.0
PRODID:-//Link: UCOP&#039;s e-newsletter - ECPv6.15.19//NONSGML v1.0//EN
CALSCALE:GREGORIAN
METHOD:PUBLISH
X-ORIGINAL-URL:https://link.ucop.edu
X-WR-CALDESC:Events for Link: UCOP&#039;s e-newsletter
REFRESH-INTERVAL;VALUE=DURATION:PT1H
X-Robots-Tag:noindex
X-PUBLISHED-TTL:PT1H
BEGIN:VTIMEZONE
TZID:America/Los_Angeles
BEGIN:STANDARD
TZOFFSETFROM:-0700
TZOFFSETTO:-0800
DTSTART:19701029T020000
RRULE:FREQ=YEARLY;BYMONTH=11;BYDAY=1SU
END:STANDARD
BEGIN:DAYLIGHT
DTSTART:19700402T020000
TZOFFSETFROM:-0800
TZOFFSETTO:-0700
RRULE:FREQ=YEARLY;BYMONTH=3;BYDAY=2SU
END:DAYLIGHT
END:VTIMEZONE
BEGIN:VTIMEZONE
TZID:America/Los_Angeles
BEGIN:DAYLIGHT
TZOFFSETFROM:-0800
TZOFFSETTO:-0700
TZNAME:PDT
DTSTART:20210314T100000
END:DAYLIGHT
BEGIN:STANDARD
TZOFFSETFROM:-0700
TZOFFSETTO:-0800
TZNAME:PST
DTSTART:20211107T090000
END:STANDARD
BEGIN:DAYLIGHT
TZOFFSETFROM:-0800
TZOFFSETTO:-0700
TZNAME:PDT
DTSTART:20220313T100000
END:DAYLIGHT
BEGIN:STANDARD
TZOFFSETFROM:-0700
TZOFFSETTO:-0800
TZNAME:PST
DTSTART:20221106T090000
END:STANDARD
BEGIN:DAYLIGHT
TZOFFSETFROM:-0800
TZOFFSETTO:-0700
TZNAME:PDT
DTSTART:20230312T100000
END:DAYLIGHT
BEGIN:STANDARD
TZOFFSETFROM:-0700
TZOFFSETTO:-0800
TZNAME:PST
DTSTART:20231105T090000
END:STANDARD
END:VTIMEZONE
BEGIN:VEVENT
DTSTART;TZID=America/Los_Angeles:20221026T120000
DTEND;TZID=America/Los_Angeles:20221026T130000
DTSTAMP:20260422T210315
CREATED:20221007T175514Z
LAST-MODIFIED:20221025T170716Z
UID:10009409-1666785600-1666789200@link.ucop.edu
SUMMARY:LaSA Ofrendas Begin
DESCRIPTION:In celebration of Día de los Muertos (Day of the Dead)\, the Latino Staff Association (LaSA) will set up physical and digital ofrendas — altars honoring those who have died. Colleagues are invited to participate by sharing loved ones’ photos or other mementos. \n\nOakland colleagues: Bring your physical mementos to the Oakland Franklin building lobby to place on the Please include a label with your name. The ofrenda will be up from Oct. 26 – Nov. 2.\nColleagues at all locations: Visit the LaSA virtual ofrenda at any time to post your virtual tribute to loved ones who have died. Use the comment form to share a photo and description.
URL:https://link.ucop.edu/event/lasa-ofrendas-begin/
LOCATION:Franklin Lobby\, Oakland
END:VEVENT
END:VCALENDAR