BEGIN:VCALENDAR
VERSION:2.0
PRODID:-//Link: UCOP&#039;s e-newsletter - ECPv6.15.19//NONSGML v1.0//EN
CALSCALE:GREGORIAN
METHOD:PUBLISH
X-ORIGINAL-URL:https://link.ucop.edu
X-WR-CALDESC:Events for Link: UCOP&#039;s e-newsletter
REFRESH-INTERVAL;VALUE=DURATION:PT1H
X-Robots-Tag:noindex
X-PUBLISHED-TTL:PT1H
BEGIN:VTIMEZONE
TZID:America/Los_Angeles
BEGIN:STANDARD
TZOFFSETFROM:-0700
TZOFFSETTO:-0800
DTSTART:19701029T020000
RRULE:FREQ=YEARLY;BYMONTH=11;BYDAY=1SU
END:STANDARD
BEGIN:DAYLIGHT
DTSTART:19700402T020000
TZOFFSETFROM:-0800
TZOFFSETTO:-0700
RRULE:FREQ=YEARLY;BYMONTH=3;BYDAY=2SU
END:DAYLIGHT
END:VTIMEZONE
BEGIN:VTIMEZONE
TZID:America/Los_Angeles
BEGIN:DAYLIGHT
TZOFFSETFROM:-0800
TZOFFSETTO:-0700
TZNAME:PDT
DTSTART:20250309T100000
END:DAYLIGHT
BEGIN:STANDARD
TZOFFSETFROM:-0700
TZOFFSETTO:-0800
TZNAME:PST
DTSTART:20251102T090000
END:STANDARD
BEGIN:DAYLIGHT
TZOFFSETFROM:-0800
TZOFFSETTO:-0700
TZNAME:PDT
DTSTART:20260308T100000
END:DAYLIGHT
BEGIN:STANDARD
TZOFFSETFROM:-0700
TZOFFSETTO:-0800
TZNAME:PST
DTSTART:20261101T090000
END:STANDARD
BEGIN:DAYLIGHT
TZOFFSETFROM:-0800
TZOFFSETTO:-0700
TZNAME:PDT
DTSTART:20270314T100000
END:DAYLIGHT
BEGIN:STANDARD
TZOFFSETFROM:-0700
TZOFFSETTO:-0800
TZNAME:PST
DTSTART:20271107T090000
END:STANDARD
END:VTIMEZONE
BEGIN:VEVENT
DTSTART;TZID=America/Los_Angeles:20260515T090000
DTEND;TZID=America/Los_Angeles:20260515T120000
DTSTAMP:20260420T043940
CREATED:20260401T222614Z
LAST-MODIFIED:20260401T222614Z
UID:10014716-1778835600-1778846400@link.ucop.edu
SUMMARY:Design Thinking Reimagined: Creativity Meets AI (Session 2 of 2)
DESCRIPTION:Whether new to design thinking or looking to deepen your practice\, this session will provide hands-on experience applying key principles\, enhanced by accessible and practical AI tools. Design Thinking is an iterative process to develop creative solutions to problems. We will address real challenges through empathy\, curiosity\, and experimentation. Throughout the workshop\, we’ll explore how AI can serve as a partner\, helping reframe challenges\, generate ideas\, synthesize information\, and support human-centered learning. You’ll walk away with a practical understanding of using AI thoughtfully and ethically to support your innovation process.
URL:https://link.ucop.edu/event/design-thinking-reimagined-creativity-meets-ai-session-2-of-2/
LOCATION:Online
CATEGORIES:Learning & Development
ORGANIZER;CN="UCOP Learning and Development":MAILTO:ucopld@ucop.edu
END:VEVENT
BEGIN:VEVENT
DTSTART;TZID=America/Los_Angeles:20260519T090000
DTEND;TZID=America/Los_Angeles:20260519T120000
DTSTAMP:20260420T043940
CREATED:20260407T214948Z
LAST-MODIFIED:20260407T214948Z
UID:10014729-1779181200-1779192000@link.ucop.edu
SUMMARY:Excel Power BI (Session 3 of 3)
DESCRIPTION:In this class\, users will learn about and practice using Power BI. Users will learn how to: Connect to data sources. Perform data cleaning\, profiling\, and shaping. Visualize data with Power BI. Create interactive visualizations. Enhance reports and dashboards. Publish and share reports and dashboards. NOTE: You will need Power BI Desktop installed on your computer for this class. \nThis is a three-part series\, attendance for all dates is required: May 5th\, May 12th and May 19th\, 9am – 12pm.
URL:https://link.ucop.edu/event/excel-power-bi-session-3-of-3/
LOCATION:Online
CATEGORIES:Learning & Development
ORGANIZER;CN="UCOP Learning and Development":MAILTO:ucopld@ucop.edu
END:VEVENT
BEGIN:VEVENT
DTSTART;TZID=America/Los_Angeles:20260520T090000
DTEND;TZID=America/Los_Angeles:20260520T120000
DTSTAMP:20260420T043940
CREATED:20260414T222307Z
LAST-MODIFIED:20260414T222307Z
UID:10014738-1779267600-1779278400@link.ucop.edu
SUMMARY:Excel Macro and VBA (Session 1 of 2)
DESCRIPTION:Advance your Excel skills by learning VBA/Macros. In this class you will first become familiar with recording repetitive steps with Macros\, then altering code\, and learning about VBA scope. Then\, you will experience Visual Basic for Applications (VBA) which allows you to customize Excel to fit your changing needs. This is a good place to start in understanding the world of programming and a simplified approach in initial concepts in Artificial Intelligence (AI).
URL:https://link.ucop.edu/event/excel-macro-and-vba-session-1-of-2/
LOCATION:Online
CATEGORIES:Learning & Development
ORGANIZER;CN="UCOP Learning and Development":MAILTO:ucopld@ucop.edu
END:VEVENT
BEGIN:VEVENT
DTSTART;TZID=America/Los_Angeles:20260520T130000
DTEND;TZID=America/Los_Angeles:20260520T140000
DTSTAMP:20260420T043940
CREATED:20260414T222108Z
LAST-MODIFIED:20260414T222108Z
UID:10014737-1779282000-1779285600@link.ucop.edu
SUMMARY:UCOP Safety: Active Attacker Training
DESCRIPTION:Melissa Collins\, Program Manager for Security\, Risk and Resilience\, will facilitate this live virtual class in which participants will learn skills and strategies to respond if exposed to active attacker situations. The course will review real-life incidents and discuss options in the event of potential similar encounters. Melissa joined UCOP after serving 20 years with the UC San Diego Police Department\, retiring as a lieutenant\, and is a safety expert.
URL:https://link.ucop.edu/event/ucop-safety-active-attacker-training-10/
LOCATION:Online
CATEGORIES:Learning & Development
ORGANIZER;CN="UCOP Learning and Development":MAILTO:ucopld@ucop.edu
END:VEVENT
BEGIN:VEVENT
DTSTART;TZID=America/Los_Angeles:20260521T100000
DTEND;TZID=America/Los_Angeles:20260521T110000
DTSTAMP:20260420T043940
CREATED:20260414T222541Z
LAST-MODIFIED:20260414T222722Z
UID:10014739-1779357600-1779361200@link.ucop.edu
SUMMARY:ME@UCOP: Budget & BRC
DESCRIPTION:This is a live\, virtual\, instructor-led session where we will discuss the UCOP budget process and landscape and Bruin Resource Center (BRC). Topics will include: \n\nBudget process and timeline\nUCOP Integrated Financial Systems (PBS and FIS)\nBRC teams and services\nBRC trainings and resources\n\nThis is part of the Manager Essentials at UCOP. It is required for all people new to a management or supervisory positions at UCOP since 2020 (internal promotions and external hires). All experienced managers are welcome to attend.
URL:https://link.ucop.edu/event/meucop-budget-brc-2/
LOCATION:Online
CATEGORIES:Learning & Development
ORGANIZER;CN="UCOP Learning and Development":MAILTO:ucopld@ucop.edu
END:VEVENT
BEGIN:VEVENT
DTSTART;TZID=America/Los_Angeles:20260527T090000
DTEND;TZID=America/Los_Angeles:20260527T120000
DTSTAMP:20260420T043940
CREATED:20260414T200256Z
LAST-MODIFIED:20260414T200256Z
UID:10014736-1779872400-1779883200@link.ucop.edu
SUMMARY:Excel Macro and VBA (Session 2 of 2)
DESCRIPTION:Advance your Excel skills by learning VBA/Macros. In this class you will first become familiar with recording repetitive steps with Macros\, then altering code\, and learning about VBA scope. Then\, you will experience Visual Basic for Applications (VBA) which allows you to customize Excel to fit your changing needs. This is a good place to start in understanding the world of programming and a simplified approach in initial concepts in Artificial Intelligence (AI).
URL:https://link.ucop.edu/event/excel-macro-and-vba-session-2-of-2/
LOCATION:Online
CATEGORIES:Learning & Development
END:VEVENT
BEGIN:VEVENT
DTSTART;TZID=America/Los_Angeles:20260527T100000
DTEND;TZID=America/Los_Angeles:20260527T120000
DTSTAMP:20260420T043940
CREATED:20260414T223059Z
LAST-MODIFIED:20260414T223059Z
UID:10014740-1779876000-1779883200@link.ucop.edu
SUMMARY:Manager and Employee Conversations Part 1: Feedback and Coaching Employees
DESCRIPTION:GROW is a popular coaching framework used around the world for problem solving\, goal setting and performance improvement. This interactive session provides managers with the opportunity to discuss and practice using the GROW framework as a strategy and tool to support engaging STEP check-in conversations. \nThe framework breaks down the conversation into 4 parts: Goal\, Reality\, Options\, & Will: \n\nDetermine Goal\nDiscuss Current Reality\nDiscuss Options\nDetermine the Will\n\nIn this session\, participants will discuss the framework and how to incorporate it into their STEP check-ins. Participants will have an opportunity to practice and get peer feedback on using the coaching framework.
URL:https://link.ucop.edu/event/manager-and-employee-conversations-part-1-feedback-and-coaching-employees-2/
LOCATION:Online
CATEGORIES:Learning & Development
ORGANIZER;CN="UCOP Learning and Development":MAILTO:ucopld@ucop.edu
END:VEVENT
BEGIN:VEVENT
DTSTART;TZID=America/Los_Angeles:20260528T100000
DTEND;TZID=America/Los_Angeles:20260528T120000
DTSTAMP:20260420T043940
CREATED:20260127T232801Z
LAST-MODIFIED:20260127T232801Z
UID:10014086-1779962400-1779969600@link.ucop.edu
SUMMARY:New Employee Orientation- Remote
DESCRIPTION:The UCOP Remote New Employee Orientation is designed to support the transition into the organization of fully remote employees and those who report to locations outside Oakland (DC\, Sac\, and Path).\n\n\nTopics include: \n\nUniversity of California and our history\nOverview of UCOP and the organization\nTools and Resources\nSustainability\nErgonomics\nOMBUDS\nOffice of Culture and Inclusive Excellence\n\nNote: For Benefits overview\,  attend the  MONTHLY Benefits Webinar – This covers all of your benefits.  Eligible employees must sign up for health insurance and disability benefits within their period of initial eligibility (PIE)\, which is thirty-one days from the date of eligibility for benefits\, regardless of when they attend the orientation session. \nFor all resources for New Employees\, review: \n\nNew Employee Webpage on UC Net\nLearning and Development sharepoint site \nNew Employee Box Folder with all resources\n\nNote:  Employees who report to Oakland in person or hybrid should attend the In Person Orientation. 
URL:https://link.ucop.edu/event/new-employee-orientation-remote-4/
LOCATION:Online
CATEGORIES:Orientation
ORGANIZER;CN="UCOP Learning and Development":MAILTO:ucopld@ucop.edu
END:VEVENT
BEGIN:VEVENT
DTSTART;TZID=America/Los_Angeles:20260528T120000
DTEND;TZID=America/Los_Angeles:20260528T130000
DTSTAMP:20260420T043940
CREATED:20260414T194842Z
LAST-MODIFIED:20260414T194842Z
UID:10014734-1779969600-1779973200@link.ucop.edu
SUMMARY:FSAP: Drowning in To-Do Lists: A New Way to Think About Getting Things Done
DESCRIPTION:Do you have more than one to-do list in more than one place that never seems to get smaller? Many of us want to find a balance with task accomplishment that feels sustainable and fulfilling.  In the face of sustained overwhelm\, our capacity to manage care tasks at home and work can become impacted. \nDrawing on current understandings of stress’ impact on regulation and functioning\, this webinar will explore reframing care tasks as functional supports\, rather than moral measures of worth. \nDr. Sandhu will address \n\nHow the nervous system responds to stress\nBarriers that can make completing care tasks difficult\, including shame and negative self-talk around unfinished tasks\nSkill building strategies to regulate chronic stress\nCreating functional ways to manage everyday care tasks\n\nThis webinar draws on ideas and inspiration from How to Keep House While Drowning by KC Davis\, LPC. \n  \nBio: \nIn celebration of Mental Health Awareness Month\, The Faculty and Staff Assistance Program (FSAP) is delighted to welcome Dr. Sophia Sandhu as our guest presenter for this special webinar. \nDr. Sophia Sandhu is a licensed psychologist working at the Academic and Staff Assistance Program (ASAP) at UC Davis\, where she primarily works with medical residents and fellows. \nDr. Sandhu completed her postdoctoral fellowship at the University of California\, San Francisco’s Faculty and Staff Assistance Program (FSAP). She earned her doctorate in Clinical Psychology from the Wright Institute\, a master’s in education with an emphasis on Poverty and Intervention from Vanderbilt University\, and a bachelor’s in Psychobiology from UCLA. \nHer clinical experience includes work within community and academic medical settings\, supporting individuals across the lifespan. She has co-led mindfulness and self-compassion groups\, facilitated workshops on burnout prevention and presented on topics including building habits for practical change\, sensory tools for nervous system regulation\, and trauma stewardship. \nIn celebration of Mental Health Awareness Month\, FSAP is offering a series of webinars throughout May. Visit our website to view the full schedule:  \nhttps://hr.ucsf.edu/wellbeing/faculty-and-staff-assistance-program/events
URL:https://link.ucop.edu/event/fsap-drowning-in-to-do-lists-a-new-way-to-think-about-getting-things-done/
LOCATION:Online
CATEGORIES:Learning & Development
ORGANIZER;CN="UCOP Learning and Development":MAILTO:ucopld@ucop.edu
END:VEVENT
BEGIN:VEVENT
DTSTART;TZID=America/Los_Angeles:20260529T130000
DTEND;TZID=America/Los_Angeles:20260529T140000
DTSTAMP:20260420T043940
CREATED:20260414T223300Z
LAST-MODIFIED:20260414T223300Z
UID:10014741-1780059600-1780063200@link.ucop.edu
SUMMARY:People Leader Forum
DESCRIPTION:The People Leaders Forum is a monthly opportunity for people managers to connect with one another to develop leadership skills\, build community\, share best practices\, swap strategies for navigating current challenges and learn to better support themselves and their teams.
URL:https://link.ucop.edu/event/people-leader-forum-3/
LOCATION:Online
CATEGORIES:Learning & Development
ORGANIZER;CN="UCOP Learning and Development":MAILTO:ucopld@ucop.edu
END:VEVENT
BEGIN:VEVENT
DTSTART;TZID=America/Los_Angeles:20260618T100000
DTEND;TZID=America/Los_Angeles:20260618T120000
DTSTAMP:20260420T043940
CREATED:20260127T232950Z
LAST-MODIFIED:20260127T232950Z
UID:10014087-1781776800-1781784000@link.ucop.edu
SUMMARY:New Employee Orientation- Remote
DESCRIPTION:The UCOP Remote New Employee Orientation is designed to support the transition into the organization of fully remote employees and those who report to locations outside Oakland (DC\, Sac\, and Path).\n\n\nTopics include: \n\nUniversity of California and our history\nOverview of UCOP and the organization\nTools and Resources\nSustainability\nErgonomics\nOMBUDS\nOffice of Culture and Inclusive Excellence\n\nNote: For Benefits overview\,  attend the  MONTHLY Benefits Webinar – This covers all of your benefits.  Eligible employees must sign up for health insurance and disability benefits within their period of initial eligibility (PIE)\, which is thirty-one days from the date of eligibility for benefits\, regardless of when they attend the orientation session. \nFor all resources for New Employees\, review: \n\nNew Employee Webpage on UC Net\nLearning and Development sharepoint site \nNew Employee Box Folder with all resources\n\nNote:  Employees who report to Oakland in person or hybrid should attend the In Person Orientation. 
URL:https://link.ucop.edu/event/new-employee-orientation-remote-5/
LOCATION:Online
CATEGORIES:Orientation
ORGANIZER;CN="UCOP Learning and Development":MAILTO:ucopld@ucop.edu
END:VEVENT
BEGIN:VEVENT
DTSTART;TZID=America/Los_Angeles:20260723T100000
DTEND;TZID=America/Los_Angeles:20260723T120000
DTSTAMP:20260420T043940
CREATED:20260128T003524Z
LAST-MODIFIED:20260128T003524Z
UID:10014088-1784800800-1784808000@link.ucop.edu
SUMMARY:New Employee Orientation- Remote
DESCRIPTION:The UCOP Remote New Employee Orientation is designed to support the transition into the organization of fully remote employees and those who report to locations outside Oakland (DC\, Sac\, and Path).\n\n\nTopics include: \n\nUniversity of California and our history\nOverview of UCOP and the organization\nTools and Resources\nSustainability\nErgonomics\nOMBUDS\nOffice of Culture and Inclusive Excellence\n\nNote: For Benefits overview\,  attend the  MONTHLY Benefits Webinar – This covers all of your benefits.  Eligible employees must sign up for health insurance and disability benefits within their period of initial eligibility (PIE)\, which is thirty-one days from the date of eligibility for benefits\, regardless of when they attend the orientation session. \nFor all resources for New Employees\, review: \n\nNew Employee Webpage on UC Net\nLearning and Development sharepoint site \nNew Employee Box Folder with all resources\n\nNote:  Employees who report to Oakland in person or hybrid should attend the In Person Orientation. 
URL:https://link.ucop.edu/event/new-employee-orientation-remote-6/
LOCATION:Online
CATEGORIES:Orientation
ORGANIZER;CN="UCOP Learning and Development":MAILTO:ucopld@ucop.edu
END:VEVENT
BEGIN:VEVENT
DTSTART;TZID=America/Los_Angeles:20260827T100000
DTEND;TZID=America/Los_Angeles:20260827T120000
DTSTAMP:20260420T043940
CREATED:20260128T003903Z
LAST-MODIFIED:20260128T003903Z
UID:10014089-1787824800-1787832000@link.ucop.edu
SUMMARY:New Employee Orientation- Remote
DESCRIPTION:The UCOP Remote New Employee Orientation is designed to support the transition into the organization of fully remote employees and those who report to locations outside Oakland (DC\, Sac\, and Path).\n\n\nTopics include: \n\nUniversity of California and our history\nOverview of UCOP and the organization\nTools and Resources\nSustainability\nErgonomics\nOMBUDS\nOffice of Culture and Inclusive Excellence\n\nNote: For Benefits overview\,  attend the  MONTHLY Benefits Webinar – This covers all of your benefits.  Eligible employees must sign up for health insurance and disability benefits within their period of initial eligibility (PIE)\, which is thirty-one days from the date of eligibility for benefits\, regardless of when they attend the orientation session. \nFor all resources for New Employees\, review: \n\nNew Employee Webpage on UC Net\nLearning and Development sharepoint site \nNew Employee Box Folder with all resources\n\nNote:  Employees who report to Oakland in person or hybrid should attend the In Person Orientation. 
URL:https://link.ucop.edu/event/new-employee-orientation-remote-7/
LOCATION:Online
CATEGORIES:Orientation
ORGANIZER;CN="UCOP Learning and Development":MAILTO:ucopld@ucop.edu
END:VEVENT
BEGIN:VEVENT
DTSTART;TZID=America/Los_Angeles:20260924T100000
DTEND;TZID=America/Los_Angeles:20260924T120000
DTSTAMP:20260420T043940
CREATED:20260128T004049Z
LAST-MODIFIED:20260128T004049Z
UID:10014090-1790244000-1790251200@link.ucop.edu
SUMMARY:New Employee Orientation- Remote
DESCRIPTION:The UCOP Remote New Employee Orientation is designed to support the transition into the organization of fully remote employees and those who report to locations outside Oakland (DC\, Sac\, and Path).\n\n\nTopics include: \n\nUniversity of California and our history\nOverview of UCOP and the organization\nTools and Resources\nSustainability\nErgonomics\nOMBUDS\nOffice of Culture and Inclusive Excellence\n\nNote: For Benefits overview\,  attend the  MONTHLY Benefits Webinar – This covers all of your benefits.  Eligible employees must sign up for health insurance and disability benefits within their period of initial eligibility (PIE)\, which is thirty-one days from the date of eligibility for benefits\, regardless of when they attend the orientation session. \nFor all resources for New Employees\, review: \n\nNew Employee Webpage on UC Net\nLearning and Development sharepoint site \nNew Employee Box Folder with all resources\n\nNote:  Employees who report to Oakland in person or hybrid should attend the In Person Orientation. 
URL:https://link.ucop.edu/event/new-employee-orientation-remote-8/
LOCATION:Online
CATEGORIES:Orientation
ORGANIZER;CN="UCOP Learning and Development":MAILTO:ucopld@ucop.edu
END:VEVENT
BEGIN:VEVENT
DTSTART;TZID=America/Los_Angeles:20261022T100000
DTEND;TZID=America/Los_Angeles:20261022T120000
DTSTAMP:20260420T043940
CREATED:20260128T004245Z
LAST-MODIFIED:20260128T004245Z
UID:10014091-1792663200-1792670400@link.ucop.edu
SUMMARY:New Employee Orientation- Remote
DESCRIPTION:The UCOP Remote New Employee Orientation is designed to support the transition into the organization of fully remote employees and those who report to locations outside Oakland (DC\, Sac\, and Path).\n\n\nTopics include: \n\nUniversity of California and our history\nOverview of UCOP and the organization\nTools and Resources\nSustainability\nErgonomics\nOMBUDS\nOffice of Culture and Inclusive Excellence\n\nNote: For Benefits overview\,  attend the  MONTHLY Benefits Webinar – This covers all of your benefits.  Eligible employees must sign up for health insurance and disability benefits within their period of initial eligibility (PIE)\, which is thirty-one days from the date of eligibility for benefits\, regardless of when they attend the orientation session. \nFor all resources for New Employees\, review: \n\nNew Employee Webpage on UC Net\nLearning and Development sharepoint site \nNew Employee Box Folder with all resources\n\nNote:  Employees who report to Oakland in person or hybrid should attend the In Person Orientation. 
URL:https://link.ucop.edu/event/new-employee-orientation-remote-9/
LOCATION:Online
CATEGORIES:Orientation
ORGANIZER;CN="UCOP Learning and Development":MAILTO:ucopld@ucop.edu
END:VEVENT
BEGIN:VEVENT
DTSTART;TZID=America/Los_Angeles:20261119T100000
DTEND;TZID=America/Los_Angeles:20261119T120000
DTSTAMP:20260420T043940
CREATED:20260128T004511Z
LAST-MODIFIED:20260128T004511Z
UID:10014092-1795082400-1795089600@link.ucop.edu
SUMMARY:New Employee Orientation- Remote
DESCRIPTION:The UCOP Remote New Employee Orientation is designed to support the transition into the organization of fully remote employees and those who report to locations outside Oakland (DC\, Sac\, and Path).\n\n\nTopics include: \n\nUniversity of California and our history\nOverview of UCOP and the organization\nTools and Resources\nSustainability\nErgonomics\nOMBUDS\nOffice of Culture and Inclusive Excellence\n\nNote: For Benefits overview\,  attend the  MONTHLY Benefits Webinar – This covers all of your benefits.  Eligible employees must sign up for health insurance and disability benefits within their period of initial eligibility (PIE)\, which is thirty-one days from the date of eligibility for benefits\, regardless of when they attend the orientation session. \nFor all resources for New Employees\, review: \n\nNew Employee Webpage on UC Net\nLearning and Development sharepoint site \nNew Employee Box Folder with all resources\n\nNote:  Employees who report to Oakland in person or hybrid should attend the In Person Orientation. 
URL:https://link.ucop.edu/event/new-employee-orientation-remote-10/
LOCATION:Online
CATEGORIES:Orientation
ORGANIZER;CN="UCOP Learning and Development":MAILTO:ucopld@ucop.edu
END:VEVENT
BEGIN:VEVENT
DTSTART;TZID=America/Los_Angeles:20261217T100000
DTEND;TZID=America/Los_Angeles:20261217T120000
DTSTAMP:20260420T043940
CREATED:20260128T004737Z
LAST-MODIFIED:20260128T004737Z
UID:10014093-1797501600-1797508800@link.ucop.edu
SUMMARY:New Employee Orientation- Remote
DESCRIPTION:The UCOP Remote New Employee Orientation is designed to support the transition into the organization of fully remote employees and those who report to locations outside Oakland (DC\, Sac\, and Path).\n\n\nTopics include: \n\nUniversity of California and our history\nOverview of UCOP and the organization\nTools and Resources\nSustainability\nErgonomics\nOMBUDS\nOffice of Culture and Inclusive Excellence\n\nNote: For Benefits overview\,  attend the  MONTHLY Benefits Webinar – This covers all of your benefits.  Eligible employees must sign up for health insurance and disability benefits within their period of initial eligibility (PIE)\, which is thirty-one days from the date of eligibility for benefits\, regardless of when they attend the orientation session. \nFor all resources for New Employees\, review: \n\nNew Employee Webpage on UC Net\nLearning and Development sharepoint site \nNew Employee Box Folder with all resources\n\nNote:  Employees who report to Oakland in person or hybrid should attend the In Person Orientation. 
URL:https://link.ucop.edu/event/new-employee-orientation-remote-11/
LOCATION:Online
CATEGORIES:Orientation
ORGANIZER;CN="UCOP Learning and Development":MAILTO:ucopld@ucop.edu
END:VEVENT
END:VCALENDAR