BEGIN:VCALENDAR
VERSION:2.0
PRODID:-//Link: UCOP&#039;s e-newsletter - ECPv6.15.19//NONSGML v1.0//EN
CALSCALE:GREGORIAN
METHOD:PUBLISH
X-ORIGINAL-URL:https://link.ucop.edu
X-WR-CALDESC:Events for Link: UCOP&#039;s e-newsletter
REFRESH-INTERVAL;VALUE=DURATION:PT1H
X-Robots-Tag:noindex
X-PUBLISHED-TTL:PT1H
BEGIN:VTIMEZONE
TZID:America/Los_Angeles
BEGIN:STANDARD
TZOFFSETFROM:-0700
TZOFFSETTO:-0800
DTSTART:19701029T020000
RRULE:FREQ=YEARLY;BYMONTH=11;BYDAY=1SU
END:STANDARD
BEGIN:DAYLIGHT
DTSTART:19700402T020000
TZOFFSETFROM:-0800
TZOFFSETTO:-0700
RRULE:FREQ=YEARLY;BYMONTH=3;BYDAY=2SU
END:DAYLIGHT
END:VTIMEZONE
BEGIN:VTIMEZONE
TZID:America/Los_Angeles
BEGIN:DAYLIGHT
TZOFFSETFROM:-0800
TZOFFSETTO:-0700
TZNAME:PDT
DTSTART:20180311T100000
END:DAYLIGHT
BEGIN:STANDARD
TZOFFSETFROM:-0700
TZOFFSETTO:-0800
TZNAME:PST
DTSTART:20181104T090000
END:STANDARD
BEGIN:DAYLIGHT
TZOFFSETFROM:-0800
TZOFFSETTO:-0700
TZNAME:PDT
DTSTART:20190310T100000
END:DAYLIGHT
BEGIN:STANDARD
TZOFFSETFROM:-0700
TZOFFSETTO:-0800
TZNAME:PST
DTSTART:20191103T090000
END:STANDARD
BEGIN:DAYLIGHT
TZOFFSETFROM:-0800
TZOFFSETTO:-0700
TZNAME:PDT
DTSTART:20200308T100000
END:DAYLIGHT
BEGIN:STANDARD
TZOFFSETFROM:-0700
TZOFFSETTO:-0800
TZNAME:PST
DTSTART:20201101T090000
END:STANDARD
END:VTIMEZONE
BEGIN:VEVENT
DTSTART;TZID=America/Los_Angeles:20191022T090000
DTEND;TZID=America/Los_Angeles:20191022T120000
DTSTAMP:20260417T222725
CREATED:20191002T174252Z
LAST-MODIFIED:20191002T174252Z
UID:10007460-1571734800-1571745600@link.ucop.edu
SUMMARY:Tableau Desktop 101 + Prep (Online)
DESCRIPTION:Is data visualization important to your work? Join us for a hands-on workshop of Tableau Desktop plus Tableau Prep! \nRegister here.
URL:https://link.ucop.edu/event/tableau-desktop-101-prep-online/
LOCATION:Online
CATEGORIES:Learning & Development
ORGANIZER;CN="UCOP Learning and Development":MAILTO:ucopld@ucop.edu
END:VEVENT
BEGIN:VEVENT
DTSTART;TZID=America/Los_Angeles:20191017T100000
DTEND;TZID=America/Los_Angeles:20191017T113000
DTSTAMP:20260417T222725
CREATED:20191002T173711Z
LAST-MODIFIED:20191002T173711Z
UID:10007457-1571306400-1571311800@link.ucop.edu
SUMMARY:Zoom Clinic
DESCRIPTION:Could you use a refresher clinic on Zoom? Do you have troubleshooting questions\, or would you like to learn about deeper features you may not have discovered? Join us to learn how Zoom can work for you! \nRegister here.
URL:https://link.ucop.edu/event/zoom-clinic/
LOCATION:Online
CATEGORIES:Learning & Development
ORGANIZER;CN="UCOP Learning and Development":MAILTO:ucopld@ucop.edu
END:VEVENT
BEGIN:VEVENT
DTSTART;TZID=America/Los_Angeles:20191015T113000
DTEND;TZID=America/Los_Angeles:20191015T130000
DTSTAMP:20260417T222725
CREATED:20191002T172148Z
LAST-MODIFIED:20191002T172148Z
UID:10006815-1571139000-1571144400@link.ucop.edu
SUMMARY:Webinar: Accomplishing More With Less (3 of 3)
DESCRIPTION:Bombarded by information? Persistently interrupted and side-tracked? Always juggling competing and changing priorities? Frustrated with digital overload? This fun and engaging series of 3 workshops\, facilitated by “People on the Go\,” gives breakthrough techniques for difficult time and productivity challenges. \nRegister here.
URL:https://link.ucop.edu/event/webinar-accomplishing-more-with-less-3-of-3/
LOCATION:Online
CATEGORIES:Learning & Development
ORGANIZER;CN="UCOP Learning and Development":MAILTO:ucopld@ucop.edu
END:VEVENT
BEGIN:VEVENT
DTSTART;TZID=America/Los_Angeles:20191015T093000
DTEND;TZID=America/Los_Angeles:20191015T110000
DTSTAMP:20260417T222725
CREATED:20191002T172036Z
LAST-MODIFIED:20191002T172036Z
UID:10006813-1571131800-1571137200@link.ucop.edu
SUMMARY:Microsoft Excel Techniques
DESCRIPTION:Learn powerful Excel techniques that help you save time\, analyze data and extract important organizational insights\, present information in a compelling way\, and collaborate with others more effectively. \nRegister here.
URL:https://link.ucop.edu/event/microsoft-excel-techniques/
LOCATION:Online
CATEGORIES:Learning & Development
ORGANIZER;CN="UCOP Learning and Development":MAILTO:ucopld@ucop.edu
END:VEVENT
BEGIN:VEVENT
DTSTART;TZID=America/Los_Angeles:20191010T100000
DTEND;TZID=America/Los_Angeles:20191010T120000
DTSTAMP:20260417T222725
CREATED:20191002T171913Z
LAST-MODIFIED:20191002T171913Z
UID:10006811-1570701600-1570708800@link.ucop.edu
SUMMARY:Advanced Microsoft Excel Pivot Tables
DESCRIPTION:Have you used PivotTables and wondered what more you can do with them? Or maybe you are running into obstacles and wishing you can get around them? This workshop will help you unleash the power of PivotTables and get outstanding results. \nRegister here.
URL:https://link.ucop.edu/event/advanced-microsoft-excel-pivot-tables/
LOCATION:Online
CATEGORIES:Learning & Development
ORGANIZER;CN="UCOP Learning and Development":MAILTO:ucopld@ucop.edu
END:VEVENT
BEGIN:VEVENT
DTSTART;TZID=America/Los_Angeles:20191008T113000
DTEND;TZID=America/Los_Angeles:20191008T130000
DTSTAMP:20260417T222725
CREATED:20191002T171114Z
LAST-MODIFIED:20191002T171114Z
UID:10006804-1570534200-1570539600@link.ucop.edu
SUMMARY:Webinar: Accomplishing More With Less (2 of 3)
DESCRIPTION:Bombarded by information? Persistently interrupted and side-tracked? Always juggling competing and changing priorities? Frustrated with digital overload? This fun and engaging series of 3 workshops\, facilitated by “People on the Go\,” gives breakthrough techniques for difficult time and productivity challenges. \nRegister here.
URL:https://link.ucop.edu/event/webinar-accomplishing-more-with-less-2-of-3/
LOCATION:Online
CATEGORIES:Learning & Development
ORGANIZER;CN="UCOP Learning and Development":MAILTO:ucopld@ucop.edu
END:VEVENT
BEGIN:VEVENT
DTSTART;TZID=America/Los_Angeles:20191003T110000
DTEND;TZID=America/Los_Angeles:20191003T123000
DTSTAMP:20260417T222725
CREATED:20191002T170534Z
LAST-MODIFIED:20191002T170534Z
UID:10006800-1570100400-1570105800@link.ucop.edu
SUMMARY:Mindfulness at Work Webinar
DESCRIPTION:This one-hour webinar led by People-OnTheGo focuses on increasing awareness of our surroundings and the impact that our thoughts\, emotions\, and actions have on our experience. Most importantly\, this workshop will equip you with a method to become more mindful\, more purposeful\, and more effective at work and beyond. Note: Registration deadline is 7 days before the class date.
URL:https://link.ucop.edu/event/mindfulness-at-work-webinar/
LOCATION:Online
CATEGORIES:Learning & Development
ORGANIZER;CN="UCOP Learning and Development":MAILTO:ucopld@ucop.edu
END:VEVENT
BEGIN:VEVENT
DTSTART;TZID=America/Los_Angeles:20190905T100000
DTEND;TZID=America/Los_Angeles:20190905T113000
DTSTAMP:20260417T222725
CREATED:20190717T211233Z
LAST-MODIFIED:20190820T193419Z
UID:10007365-1567677600-1567683000@link.ucop.edu
SUMMARY:Accomplishing More With Less (Online\, Part 3 of 3)
DESCRIPTION:Bombarded by information? Persistently interrupted and sidetracked? Always juggling competing and changing priorities? Frustrated with digital overload? This fun and engaging series of 3 workshops\, facilitated by “People on the Go\,” gives breakthrough techniques for difficult time and productivity challenges. Attendance at all three sessions is required to register. \nRegister here.
URL:https://link.ucop.edu/event/accomplishing-more-with-less-online-part-3-of-3/
LOCATION:Online
CATEGORIES:Learning & Development
ORGANIZER;CN="UCOP Learning and Development":MAILTO:ucopld@ucop.edu
END:VEVENT
BEGIN:VEVENT
DTSTART;TZID=America/Los_Angeles:20190829T100000
DTEND;TZID=America/Los_Angeles:20190829T113000
DTSTAMP:20260417T222725
CREATED:20190717T211119Z
LAST-MODIFIED:20190820T193245Z
UID:10007363-1567072800-1567078200@link.ucop.edu
SUMMARY:Accomplishing More With Less (Online\, Part 2 of 3)
DESCRIPTION:Bombarded by information? Persistently interrupted and side-tracked? Always juggling competing and changing priorities? Frustrated with digital overload? This fun and engaging series of 3 workshops\, facilitated by “People on the Go\,” gives breakthrough techniques for difficult time and productivity challenges. Attendance at all three sessions is required to register. \nRegister here.
URL:https://link.ucop.edu/event/accomplishing-more-with-less-online-part-2-of-3/
LOCATION:Online
CATEGORIES:Learning & Development
ORGANIZER;CN="UCOP Learning and Development":MAILTO:ucopld@ucop.edu
END:VEVENT
BEGIN:VEVENT
DTSTART;TZID=America/Los_Angeles:20190822T100000
DTEND;TZID=America/Los_Angeles:20190822T113000
DTSTAMP:20260417T222725
CREATED:20190717T210950Z
LAST-MODIFIED:20190717T210950Z
UID:10007361-1566468000-1566473400@link.ucop.edu
SUMMARY:Accomplishing More With Less (Online\, Part 1 of 3)
DESCRIPTION:Bombarded by information? Persistently interrupted and side-tracked? Always juggling competing and changing priorities? Frustrated with digital overload? This fun and engaging series of 3 workshops\, facilitated by “People on the Go\,” gives breakthrough techniques for difficult time and productivity challenges. Attendance at all three sessions is required to register. \nRegister here.
URL:https://link.ucop.edu/event/accomplishing-more-with-less-online-part-1-of-3/
LOCATION:Online
CATEGORIES:Learning & Development
ORGANIZER;CN="UCOP Learning and Development":MAILTO:ucopld@ucop.edu
END:VEVENT
BEGIN:VEVENT
DTSTART;TZID=America/Los_Angeles:20190821T120000
DTEND;TZID=America/Los_Angeles:20190821T130000
DTSTAMP:20260417T222725
CREATED:20190717T174420Z
LAST-MODIFIED:20190717T174420Z
UID:10007348-1566388800-1566392400@link.ucop.edu
SUMMARY:Leveraging Your UC Network
DESCRIPTION:Join fellow UC alumni online on Wednesday\, August 21 for an action-packed hour focused on networking strategies and tips to tap into your University of California network. Cal alumnus\, Oscar Garcia\, Founder & Chief Empowerment Officer of Aspira\, will share actionable tips to help you build and nurture relationships\, identify opportunities to connect with others\, and authentic ways you can leave new connections with a lasting positive impression. This event is part of the UC Alumni Career Network series hosted by the ten UC alumni associations and the UC Office of the President. This event will be recorded. Please use this form to sign-up attend the online event or to receive a link to the recording following the live session. \nRegister here.
URL:https://link.ucop.edu/event/leveraging-your-uc-network/
LOCATION:Online
CATEGORIES:Learning & Development
END:VEVENT
BEGIN:VEVENT
DTSTART;TZID=America/Los_Angeles:20190815T110000
DTEND;TZID=America/Los_Angeles:20190815T123000
DTSTAMP:20260417T222725
CREATED:20190717T185536Z
LAST-MODIFIED:20190717T185536Z
UID:10007357-1565866800-1565872200@link.ucop.edu
SUMMARY:People on the Go: Mindfulness at Work
DESCRIPTION:This revolutionary workshop tackles today’s workplace challenges by introducing mindfulness\, demystifying it\, and translating it to simple techniques that you can easily incorporate into your daily work life through the use of a journal\, a timer\, and a method\, to help you skillfully manage through the most demanding work environments. You probably have heard about the benefits of mindfulness practices for our physical and mental health — lower blood pressure and cortisol (stress) levels\, a stronger immune system\, improved sleep\, increased ability to focus\, enhanced emotional stability\, among others. Isn’t time we introduce mindfulness at work and bring these benefits to our workday where we spend the most time and most energy? Join us to discover how to do so! \nRegister here.
URL:https://link.ucop.edu/event/people-on-the-go-mindfulness-at-work/
LOCATION:Online
CATEGORIES:Learning & Development
ORGANIZER;CN="UCOP Learning and Development":MAILTO:ucopld@ucop.edu
END:VEVENT
BEGIN:VEVENT
DTSTART;TZID=America/Los_Angeles:20190813T093000
DTEND;TZID=America/Los_Angeles:20190813T110000
DTSTAMP:20260417T222725
CREATED:20190717T184322Z
LAST-MODIFIED:20190717T184322Z
UID:10007355-1565688600-1565694000@link.ucop.edu
SUMMARY:People On The Go Microsoft Excel Techniques
DESCRIPTION:This workshop is for business users who want to take their Microsoft Excel skills to the next level. In this workshop\, users learn powerful techniques that can help them save significant time\, analyze data and extract important business insights\, present information in a compelling way\, and collaborate with others more effectively. This workshop is offered for Microsoft Excel users as public instructor-led webinars and Web self-paced classes. It is also offered for corporate users in the form of corporate Webinars\, Web self-paced classes\, and onsite training sessions. \nRegister here.
URL:https://link.ucop.edu/event/people-on-the-go-microsoft-excel-techniques/
LOCATION:Online
CATEGORIES:Learning & Development
ORGANIZER;CN="UCOP Learning and Development":MAILTO:ucopld@ucop.edu
END:VEVENT
BEGIN:VEVENT
DTSTART;TZID=America/Los_Angeles:20190808T100000
DTEND;TZID=America/Los_Angeles:20190808T120000
DTSTAMP:20260417T222725
CREATED:20190717T190642Z
LAST-MODIFIED:20190717T190642Z
UID:10007359-1565258400-1565265600@link.ucop.edu
SUMMARY:People on the Go: Advanced Microsoft Excel Pivot Tables
DESCRIPTION:In this workshop you will learn the most powerful capabilities of Excel PivotTables and how they can be an invaluable tool in helping you analyze your data and present your conclusions in compelling ways. If you have been using PivotTables and are wondering what more you can do with them\, or are maybe running into obstacles and wishing you can get around them\, this workshop will help you unleash the power of PivotTables and get outstanding results. This workshop is offered for Microsoft Excel users as public instructor-led webinars and Web self-paced classes. It is also offered for corporate users in the form of corporate Webinars\, Web self-paced classes\, and on-site training sessions. \nRegister here.
URL:https://link.ucop.edu/event/people-on-the-go-advanced-microsoft-excel-pivot-tables/
LOCATION:Online
CATEGORIES:Learning & Development
ORGANIZER;CN="UCOP Learning and Development":MAILTO:ucopld@ucop.edu
END:VEVENT
BEGIN:VEVENT
DTSTART;TZID=America/Los_Angeles:20190627T090000
DTEND;TZID=America/Los_Angeles:20190627T160000
DTSTAMP:20260417T222725
CREATED:20190531T225639Z
LAST-MODIFIED:20190612T192850Z
UID:10007325-1561626000-1561651200@link.ucop.edu
SUMMARY:Excel for Power Users
DESCRIPTION:Created for those with extensive Excel knowledge\, this course offers practical experience using the application’s most powerful features and data analysis techniques. Topics include advanced formulas\, customizable dashboards\, multi-purpose VBA macros and enhanced user experience. \nRegister online: https://www.gotomeet.me/ucop\, Academy X Online\nVirtual\nLocation URL : https://www.gotomeet.me/ucop
URL:https://link.ucop.edu/event/excel-for-power-users-5/
LOCATION:Online
CATEGORIES:Learning & Development
ORGANIZER;CN="UCOP Learning and Development":MAILTO:ucopld@ucop.edu
END:VEVENT
BEGIN:VEVENT
DTSTART;TZID=America/Los_Angeles:20190626T090000
DTEND;TZID=America/Los_Angeles:20190626T160000
DTSTAMP:20260417T222725
CREATED:20190531T225917Z
LAST-MODIFIED:20190610T230430Z
UID:10007328-1561539600-1561564800@link.ucop.edu
SUMMARY:UCOP SharePoint Fundamentals (Online)
DESCRIPTION:Don’t miss the first 2019 iteration of this popular daylong SharePoint class! From an overview of the SharePoint environment to navigation\, document and information management\, views and libraries\, this course provides a thorough introduction to a fantastic collaborative platform. \nRegister online:  \nhttps://www.gotomeet.me/ucop\, Academy X Online\nVirtual\nLocation URL : https://www.gotomeet.me/ucop \nTo register\, click here.
URL:https://link.ucop.edu/event/ucop-sharepoint-fundamentals/
LOCATION:Online
CATEGORIES:Learning & Development
ORGANIZER;CN="UCOP Learning and Development":MAILTO:ucopld@ucop.edu
END:VEVENT
BEGIN:VEVENT
DTSTART;TZID=America/Los_Angeles:20190619T090000
DTEND;TZID=America/Los_Angeles:20190619T160000
DTSTAMP:20260417T222725
CREATED:20190531T225747Z
LAST-MODIFIED:20190610T230120Z
UID:10007326-1560934800-1560960000@link.ucop.edu
SUMMARY:Excel Advanced (Online)
DESCRIPTION:Experienced Excel users can build on key concepts covered in beginning and intermediate courses to apply advanced functions (logical\, financial\, statistical and database)\, use data tables\, implement data validation\, utilize pivot tables\, use XML files and more. \nTo register\, click here.
URL:https://link.ucop.edu/event/excel-advanced-online/
LOCATION:Online
CATEGORIES:Learning & Development
ORGANIZER;CN="UCOP Learning and Development":MAILTO:ucopld@ucop.edu
END:VEVENT
END:VCALENDAR